BEGIN:VCALENDAR
VERSION:2.0
PRODID:-//Wickford Art Association - ECPv6.15.18//NONSGML v1.0//EN
CALSCALE:GREGORIAN
METHOD:PUBLISH
X-ORIGINAL-URL:https://wickfordart.org
X-WR-CALDESC:Events for Wickford Art Association
REFRESH-INTERVAL;VALUE=DURATION:PT1H
X-Robots-Tag:noindex
X-PUBLISHED-TTL:PT1H
BEGIN:VTIMEZONE
TZID:America/New_York
BEGIN:DAYLIGHT
TZOFFSETFROM:-0500
TZOFFSETTO:-0400
TZNAME:EDT
DTSTART:20240310T070000
END:DAYLIGHT
BEGIN:STANDARD
TZOFFSETFROM:-0400
TZOFFSETTO:-0500
TZNAME:EST
DTSTART:20241103T060000
END:STANDARD
BEGIN:DAYLIGHT
TZOFFSETFROM:-0500
TZOFFSETTO:-0400
TZNAME:EDT
DTSTART:20250309T070000
END:DAYLIGHT
BEGIN:STANDARD
TZOFFSETFROM:-0400
TZOFFSETTO:-0500
TZNAME:EST
DTSTART:20251102T060000
END:STANDARD
BEGIN:DAYLIGHT
TZOFFSETFROM:-0500
TZOFFSETTO:-0400
TZNAME:EDT
DTSTART:20260308T070000
END:DAYLIGHT
BEGIN:STANDARD
TZOFFSETFROM:-0400
TZOFFSETTO:-0500
TZNAME:EST
DTSTART:20261101T060000
END:STANDARD
BEGIN:DAYLIGHT
TZOFFSETFROM:-0500
TZOFFSETTO:-0400
TZNAME:EDT
DTSTART:20270314T070000
END:DAYLIGHT
BEGIN:STANDARD
TZOFFSETFROM:-0400
TZOFFSETTO:-0500
TZNAME:EST
DTSTART:20271107T060000
END:STANDARD
END:VTIMEZONE
BEGIN:VEVENT
DTSTART;TZID=America/New_York:20260418T130000
DTEND;TZID=America/New_York:20260418T160000
DTSTAMP:20260425T094351
CREATED:20260209T142422Z
LAST-MODIFIED:20260413T175328Z
UID:10001965-1776517200-1776528000@wickfordart.org
SUMMARY:Land and Sea\, Outdoor Oil Painting with Lisa McAndrews-Morin
DESCRIPTION:Land and Sea\, Outdoor Oil Painting with Lisa McAndrews-Morin \nSaturdays\, April 18\, 25\, May 2\, 9 from 1:00 PM – 4:00 PM (4 Classes) \nGet ready to pack up your painting gear and head outdoors for some SPRING Plein Air painting! There is no substitute for the artistic lessons that can be learned\, and the enjoyment that can be experienced\, from painting outdoors. During this class we will create original\, one-of-a-kind\, Plein Air landscape and seascape paintings at various Rhode Island locations (to be announced). Lisa will guide you through the process with specific emphasis placed on composition\, simplification\, and seeing atmospheric color and value. Learning with Lisa is relaxing and fun\, and her stepwise approach to teaching provides students with plenty of learning and pearls of painting wisdom.  (This class is designed for students who already possess basic introductory OIL painting experience). \nClass locations will range from Jamestown to West Greenwich. \nSuggested Supply List \n$170 Members | $200 Non-members \nCLASS REGISTRATION – CURRENT MEMBERS \nCLASS REGISTRATION – NON-MEMBERS
URL:https://wickfordart.org/event/land-and-sea-outdoor-oil-painting-with-lisa-mcandrews-morin/2026-04-18/
CATEGORIES:Adult Classes,Art Classes
ATTACH;FMTTYPE=image/jpeg:https://wickfordart.org/wp-content/uploads/IMG_7579.jpeg
END:VEVENT
BEGIN:VEVENT
DTSTART;TZID=America/New_York:20260131T100000
DTEND;TZID=America/New_York:20260131T130000
DTSTAMP:20260425T094351
CREATED:20251107T215149Z
LAST-MODIFIED:20251107T220349Z
UID:10001858-1769853600-1769864400@wickfordart.org
SUMMARY:Expressive Pet/Animal Oil Portraits with Lisa McAndrews-Morin
DESCRIPTION:Expressive Pet/Animal Oil Portraits with Lisa McAndrews-Morin \nSaturdays January 10\, 17\, 24\, 31 from 10:00 AM – 1:00 PM (4 Classes) \nAnimals are expressive individuals with unique personalities\, and there is nothing quite like capturing their essence and emotion through portraiture. Come create an original\, one-of-a-kind\, oil portrait keepsake of your beloved pet or favorite animal. Lisa will guide you step-by-step\, from designing your painting to the finishing brush strokes. Learning with Lisa is a relaxing\, enjoyable experience\, and her stepwise approach to teaching provides students with plenty of learning and pearls of painting wisdom. (This class is designed for students of any artistic skill level who already possess basic introductory experience with oil paint). \nSuggested Supply List \n$170 Members | $200 Non-members \nCLASS REGISTRATION – CURRENT MEMBERS \nCLASS REGISTRATION – NON-MEMBERS
URL:https://wickfordart.org/event/expressive-pet-animal-oil-portraits-with-lisa-mcandrews-morin/2026-01-31/
CATEGORIES:Adult Classes,Art Classes,Onsite Classes
ATTACH;FMTTYPE=image/jpeg:https://wickfordart.org/wp-content/uploads/Screen-Shot-2025-11-07-at-4.50.27-PM.jpg
END:VEVENT
BEGIN:VEVENT
DTSTART;TZID=America/New_York:20251108T100000
DTEND;TZID=America/New_York:20251108T130000
DTSTAMP:20260425T094351
CREATED:20250805T000615Z
LAST-MODIFIED:20251006T153652Z
UID:10001719-1762596000-1762606800@wickfordart.org
SUMMARY:Exploring Zorn’s Palette in Oils with Lisa McAndrews-Morin
DESCRIPTION:Exploring Zorn’s Palette in Oils with Lisa McAndrews-Morin \nSaturdays October 18\, 25\, November 1\, 8 from 10:00 AM – 1:00 PM (4 Classes) \nYou won’t believe how many colors you can mix with the ZORN PALETTE!!  Artist Anders Zorn (1860-1920) was known for occasionally limiting his color palette to ONLY Yellow Ochre\, Ivory Black\, Cadmium Red/Vermillion\, and White. Zorn used this unique limited palette to create paintings ranging from portraits to landscapes. Come explore the Zorn Palette with Lisa\, and practice putting it to use as you create your own oil paintings.  \nThis class is designed for students of any artistic skill level who already possess basic introductory experience with oil paint.  \n$170 Members | $200 Non-members \nCLASS REGISTRATION – CURRENT MEMBERS \nCLASS REGISTRATION – NON-MEMBERS \nSuggested Supply List
URL:https://wickfordart.org/event/exploring-zorns-palette-in-oils-with-lisa-mcandrews-morin/2025-11-08/
CATEGORIES:Adult Classes,Art Classes,Onsite Classes
ATTACH;FMTTYPE=image/jpeg:https://wickfordart.org/wp-content/uploads/IMG_5728.jpeg
END:VEVENT
END:VCALENDAR