BEGIN:VCALENDAR
VERSION:2.0
PRODID:-//Wickford Art Association - ECPv6.15.18//NONSGML v1.0//EN
CALSCALE:GREGORIAN
METHOD:PUBLISH
X-WR-CALNAME:Wickford Art Association
X-ORIGINAL-URL:https://wickfordart.org
X-WR-CALDESC:Events for Wickford Art Association
REFRESH-INTERVAL;VALUE=DURATION:PT1H
X-Robots-Tag:noindex
X-PUBLISHED-TTL:PT1H
BEGIN:VTIMEZONE
TZID:America/New_York
BEGIN:DAYLIGHT
TZOFFSETFROM:-0500
TZOFFSETTO:-0400
TZNAME:EDT
DTSTART:20230312T070000
END:DAYLIGHT
BEGIN:STANDARD
TZOFFSETFROM:-0400
TZOFFSETTO:-0500
TZNAME:EST
DTSTART:20231105T060000
END:STANDARD
BEGIN:DAYLIGHT
TZOFFSETFROM:-0500
TZOFFSETTO:-0400
TZNAME:EDT
DTSTART:20240310T070000
END:DAYLIGHT
BEGIN:STANDARD
TZOFFSETFROM:-0400
TZOFFSETTO:-0500
TZNAME:EST
DTSTART:20241103T060000
END:STANDARD
BEGIN:DAYLIGHT
TZOFFSETFROM:-0500
TZOFFSETTO:-0400
TZNAME:EDT
DTSTART:20250309T070000
END:DAYLIGHT
BEGIN:STANDARD
TZOFFSETFROM:-0400
TZOFFSETTO:-0500
TZNAME:EST
DTSTART:20251102T060000
END:STANDARD
END:VTIMEZONE
BEGIN:VEVENT
DTSTART;VALUE=DATE:20240712
DTEND;VALUE=DATE:20240727
DTSTAMP:20260422T181901
CREATED:20240711T181848Z
LAST-MODIFIED:20250214T151834Z
UID:10000022-1720742400-1722038399@wickfordart.org
SUMMARY:Out and About with Terry Kole
DESCRIPTION:Out and About with Terry Kole: Summer Art Excursions in Wickford Village for Tweens and Teens\nFriday\, July 12\, 19\, 26\n10am – 12:00pm (3 classes)Terry Kole will meet with students at 3 different locations in beautiful\, historic Wickford. The group will take photos\, make sketches and even paint their way through town. The students will be able to explore any medium they can carry in their backpacks (ie: pencil\, color pencil\, pastel pencil\, watercolor and even digital art with tablets!)\, and Terry will offer her instruction in 2D and Digital Art making. \nCLASS REGISTRATION – CURRENT MEMBERS \nCLASS REGISTRATION – NON-MEMBERS
URL:https://wickfordart.org/event/out-and-about-with-terry-kole/
CATEGORIES:Art Classes,Onsite Classes,Youth Classes
ATTACH;FMTTYPE=image/jpeg:https://wickfordart.org/wp-content/uploads/IMG_6564.jpeg
END:VEVENT
BEGIN:VEVENT
DTSTART;VALUE=DATE:20240708
DTEND;VALUE=DATE:20240730
DTSTAMP:20260422T181901
CREATED:20240711T175149Z
LAST-MODIFIED:20250214T151724Z
UID:10000015-1720396800-1722297599@wickfordart.org
SUMMARY:Drawing for Everyone with Felicia Touhey
DESCRIPTION:Mondays July 8\, 15\, 22\, 29 (4 Classes) 9:30AM-12:30PM\nLearn to draw in a relaxed and non-threatening atmosphere. This is a class for both beginners and those with drawing experience who wish to expand their skills. We will explore line\, shape and form and also learn about proportion\, perspective and value. Students will develop the necessary knowledge to successfully draw from observation while creating exciting and vibrant drawings. Instruction will be geared to personal abilities and style. There will be group critiques and discussions at the end of each class. \nSupply List \nCLASS REGISTRATION – CURRENT MEMBERS \nCLASS REGISTRATION – NON-MEMBERS
URL:https://wickfordart.org/event/drawing-for-everyone-with-felicia-touhey/
CATEGORIES:Adult Classes,Art Classes,Onsite Classes
ATTACH;FMTTYPE=image/jpeg:https://wickfordart.org/wp-content/uploads/IMG_7487-1.jpg
END:VEVENT
BEGIN:VEVENT
DTSTART;VALUE=DATE:20240524
DTEND;VALUE=DATE:20240624
DTSTAMP:20260422T181901
CREATED:20240709T212451Z
LAST-MODIFIED:20240709T212451Z
UID:10000012-1716508800-1719187199@wickfordart.org
SUMMARY:Land\, Sea & Sky Exhibit
DESCRIPTION:
URL:https://wickfordart.org/event/land-sea-sky-exhibit/
CATEGORIES:Exhibits
ATTACH;FMTTYPE=image/jpeg:https://wickfordart.org/wp-content/uploads/2024-Land-Sea-Sky-600x400-1.jpg
END:VEVENT
BEGIN:VEVENT
DTSTART;TZID=America/New_York:20240216T160000
DTEND;TZID=America/New_York:20240216T173000
DTSTAMP:20260422T181901
CREATED:20240114T144551Z
LAST-MODIFIED:20250214T151651Z
UID:10000005-1708099200-1708104600@wickfordart.org
SUMMARY:Digital Art for Teens and Preteens with Procreate (January)
DESCRIPTION:Fridays\, January 5\, 19\, 26\, Feb 2\, 16\, 23- 4:00PM – 5:30PM (6 Classes) \nIn this 6-week session\, Terry will unlock the secrets of creating art on iPads with the app Procreate.  This will be a beginner course for kids who are new to their devices.  We will be imitating cool art by current artists in the video game and film industry.  Each week we will tackle a new illustration and use different brushes and textures.  Students will love their results and gain confidence each week. \nCourse Objectives: To educate students as to all the wonderful brushes and textures in Procreate and increase their level of comfort and skill in creating great images digitally. \nMaterials: Students will need to have a current iPad\, a stylus (The Apple Pencil is recommended\, but other workable styluses are available) and the app Procreate. \n$140 Members | $170 Non-Members \nCLASS REGISTRATION – CURRENT MEMBERS \nCLASS REGISTRATION – NON-MEMBERS
URL:https://wickfordart.org/event/digital-art-for-teens-and-preteens-with-procreate-january/2024-02-16/
CATEGORIES:Art Classes,Onsite Classes,Youth Classes
ATTACH;FMTTYPE=image/jpeg:https://wickfordart.org/wp-content/uploads/2024-01-14_10-47-36.jpeg
END:VEVENT
BEGIN:VEVENT
DTSTART;TZID=America/New_York:20240122T090000
DTEND;TZID=America/New_York:20240122T120000
DTSTAMP:20260422T181901
CREATED:20240114T155211Z
LAST-MODIFIED:20250214T151621Z
UID:10000008-1705914000-1705924800@wickfordart.org
SUMMARY:Let’s See the Light\, Drawing with Betsey MacDonald
DESCRIPTION:Mondays\, January 8\, 15\, 22\, and 29th- 9:00AM – 12:00PM (4 Classes) \nDegas said that drawing is the artist’s most direct and spontaneous expression. It’s challenging\, mindful and the foundation of visual art. In this class we will use contour line to help us better “see” our subjects and then focus on the use value to describe how light and shadows help us to get to the core of a subject. We’ll observe and draw using pencil and charcoal\, a variety of materials like paper\, wood\, porcelain\, metal\, glass and natural objects\, all of which reflect light differently. Our emphasis will be on representation from direct observation\, learning how to use mark making and shading to create form\, texture and a sense of space. Students will bring their own objects for a final finished drawing. \n\nSupply List \n$170 Members | $200 Non-Members   \nCLASS REGISTRATION – CURRENT MEMBERS \nCLASS REGISTRATION – NON-MEMBERS
URL:https://wickfordart.org/event/lets-see-the-light-drawing-with-betsey-macdonald/2024-01-22/
CATEGORIES:Adult Classes,Art Classes
ATTACH;FMTTYPE=image/jpeg:https://wickfordart.org/wp-content/uploads/2024-01-14_10-47-44.jpeg
END:VEVENT
BEGIN:VEVENT
DTSTART;VALUE=DATE:20240112
DTEND;VALUE=DATE:20240205
DTSTAMP:20260422T181901
CREATED:20240114T160210Z
LAST-MODIFIED:20240114T160210Z
UID:10000009-1705017600-1707091199@wickfordart.org
SUMMARY:Give Us Your Best
DESCRIPTION:
URL:https://wickfordart.org/event/give-us-your-best/
CATEGORIES:Exhibits
ATTACH;FMTTYPE=image/jpeg:https://wickfordart.org/wp-content/uploads/Blue-Gold-Modern-Award-Congratulatory-Facebook-Post.jpg
END:VEVENT
END:VCALENDAR