BEGIN:VCALENDAR
VERSION:2.0
PRODID:-//Wickford Art Association - ECPv6.15.18//NONSGML v1.0//EN
CALSCALE:GREGORIAN
METHOD:PUBLISH
X-ORIGINAL-URL:https://wickfordart.org
X-WR-CALDESC:Events for Wickford Art Association
REFRESH-INTERVAL;VALUE=DURATION:PT1H
X-Robots-Tag:noindex
X-PUBLISHED-TTL:PT1H
BEGIN:VTIMEZONE
TZID:America/New_York
BEGIN:DAYLIGHT
TZOFFSETFROM:-0500
TZOFFSETTO:-0400
TZNAME:EDT
DTSTART:20240310T070000
END:DAYLIGHT
BEGIN:STANDARD
TZOFFSETFROM:-0400
TZOFFSETTO:-0500
TZNAME:EST
DTSTART:20241103T060000
END:STANDARD
BEGIN:DAYLIGHT
TZOFFSETFROM:-0500
TZOFFSETTO:-0400
TZNAME:EDT
DTSTART:20250309T070000
END:DAYLIGHT
BEGIN:STANDARD
TZOFFSETFROM:-0400
TZOFFSETTO:-0500
TZNAME:EST
DTSTART:20251102T060000
END:STANDARD
BEGIN:DAYLIGHT
TZOFFSETFROM:-0500
TZOFFSETTO:-0400
TZNAME:EDT
DTSTART:20260308T070000
END:DAYLIGHT
BEGIN:STANDARD
TZOFFSETFROM:-0400
TZOFFSETTO:-0500
TZNAME:EST
DTSTART:20261101T060000
END:STANDARD
END:VTIMEZONE
BEGIN:VEVENT
DTSTART;TZID=America/New_York:20251101T100000
DTEND;TZID=America/New_York:20251101T130000
DTSTAMP:20260422T141824
CREATED:20250805T000615Z
LAST-MODIFIED:20251006T153652Z
UID:10001718-1761991200-1762002000@wickfordart.org
SUMMARY:Exploring Zorn’s Palette in Oils with Lisa McAndrews-Morin
DESCRIPTION:Exploring Zorn’s Palette in Oils with Lisa McAndrews-Morin \nSaturdays October 18\, 25\, November 1\, 8 from 10:00 AM – 1:00 PM (4 Classes) \nYou won’t believe how many colors you can mix with the ZORN PALETTE!!  Artist Anders Zorn (1860-1920) was known for occasionally limiting his color palette to ONLY Yellow Ochre\, Ivory Black\, Cadmium Red/Vermillion\, and White. Zorn used this unique limited palette to create paintings ranging from portraits to landscapes. Come explore the Zorn Palette with Lisa\, and practice putting it to use as you create your own oil paintings.  \nThis class is designed for students of any artistic skill level who already possess basic introductory experience with oil paint.  \n$170 Members | $200 Non-members \nCLASS REGISTRATION – CURRENT MEMBERS \nCLASS REGISTRATION – NON-MEMBERS \nSuggested Supply List
URL:https://wickfordart.org/event/exploring-zorns-palette-in-oils-with-lisa-mcandrews-morin/2025-11-01/
CATEGORIES:Adult Classes,Art Classes,Onsite Classes
ATTACH;FMTTYPE=image/jpeg:https://wickfordart.org/wp-content/uploads/IMG_5728.jpeg
END:VEVENT
BEGIN:VEVENT
DTSTART;TZID=America/New_York:20251103T100000
DTEND;TZID=America/New_York:20251103T120000
DTSTAMP:20260422T141824
CREATED:20250727T140438Z
LAST-MODIFIED:20250727T140632Z
UID:10001699-1762164000-1762171200@wickfordart.org
SUMMARY:Drawing Studio – A Drawing Club November with Ann Bianchi
DESCRIPTION:Drawing Studio – A Drawing Club November with Ann Bianchi \nMondays\, November 3\, 10\, 17\, 24 –  10:00AM–12:00PM (4 Classes) \nJoin Ann weekly to meet and draw amongst fellow adult artists.  This class is designed to continue into future sessions and will be offered on a rolling basis. Students will be able to sign up for multiple sessions\, creating a consistent monthly group.\nWork on individual projects or in-class topics with guidance from Ann on drawing techniques and methods. \nSee your drawings improve exceptionally in this class. Develop confidence with hands-on practice and individual tips from Ann. Achieve success with contour lines\, values\, highlights\, shadows\, composition\, and many types of perspective. Create amongst fellow artists in a gallery setting. \nBring any drawing materials and papers you may have to class.  All skills learned will support any future two-dimensional art classes. \nLet’s explore the basics of drawing. All levels are welcome. \n$135 Members | $165 Non-members \nCLASS REGISTRATION – CURRENT MEMBERS \nCLASS REGISTRATION – NON-MEMBERS
URL:https://wickfordart.org/event/drawing-studio-a-drawing-club-november-with-ann-bianchi/2025-11-03/
CATEGORIES:Adult Classes,Art Classes,Onsite Classes
ATTACH;FMTTYPE=image/jpeg:https://wickfordart.org/wp-content/uploads/IMG_9348.jpeg
END:VEVENT
BEGIN:VEVENT
DTSTART;TZID=America/New_York:20251104T100000
DTEND;TZID=America/New_York:20251104T120000
DTSTAMP:20260422T141824
CREATED:20250808T004356Z
LAST-MODIFIED:20251006T192233Z
UID:10001831-1762250400-1762257600@wickfordart.org
SUMMARY:Fall Back to Nature\, Drawing & Painting with Betsey MacDonald
DESCRIPTION:Fall Back to Nature\, Drawing & Painting with Betsey MacDonald \nTuesdays\, October 28\, November 4\, 18\, 25 – 10:00AM–1:00PM (4 classes) \nNature gives to every time and season some beauties of its own”\, Charles Dickens. October brings us so many things to observe and draw! We’ll study natural objects such as fall foliage\, vegetables and seed pods. From acorns and apples to pumpkins and pine cones\, we’ll marvel at nature’s designs and study the complexity of the life around us as we create art inspired by these objects. Our observation skills will improve as we carefully record what we observe using graphite then colored pencils and finally watercolor. This class is designed for anyone who wants to better see the beauty of nature and use their creativity to study it. \nOnly pencils and erasers are needed for the first class as we’ll discuss other materials as needed also please bring a magnifying glass if you have one.  Materials that you may choose to use:  pencils\, 2B\, 4B and 6B\, erasers\, fine point felt pen\, watercolor (an inexpensive tray is fine) and brushes\, colored pencils. Heavy drawing paper or mixed media paper and watercolor paper. Instructor will bring lots of materials as well. \n$170 Members | $200 Non-members \nCLASS REGISTRATION – CURRENT MEMBERS \nCLASS REGISTRATION – NON-MEMBERS
URL:https://wickfordart.org/event/fall-back-to-nature-drawing-painting-with-betsey-macdonald/2025-11-04/
CATEGORIES:Adult Classes,Art Classes,Onsite Classes
ATTACH;FMTTYPE=image/jpeg:https://wickfordart.org/wp-content/uploads/B3FEF13F-8356-4EA5-97D2-F0A067852DEF.jpg
END:VEVENT
BEGIN:VEVENT
DTSTART;TZID=America/New_York:20251105T150000
DTEND;TZID=America/New_York:20251105T180000
DTSTAMP:20260422T141824
CREATED:20250902T184837Z
LAST-MODIFIED:20250910T135248Z
UID:10001775-1762354800-1762365600@wickfordart.org
SUMMARY:Color & Light\, Explorations in Oils with Sarah Hirsch
DESCRIPTION:Color & Light\, Explorations in Oils with Sarah Hirsch \nWednesdays\, October 1\, 15\, 29\, November 5\, 19  from 3:00pm-6:00pm (5 classes) \nOil paints are a versatile\, evocative medium through which we can explore the beauty of the world around us. Elevate your color mixing techniques and capture fleeting light\, give dynamic energy and depth to your pieces\, and really grow and develop your paintings. Students of mixed-levels are all very welcome\, some experience is helpful. We will learn and apply the fundamentals of color theory and art composition\, and deep-dive into independent studio work with guided instruction and friendly group critiques.\n\n$200 Members | $230 Non-members \nCLASS REGISTRATION – CURRENT MEMBERS \nCLASS REGISTRATION – NON-MEMBERS \nMaterials List
URL:https://wickfordart.org/event/color-light-guided-explorations-in-oils-with-sarah-hirsch/2025-11-05/
CATEGORIES:Adult Classes,Art Classes,Onsite Classes
ATTACH;FMTTYPE=image/jpeg:https://wickfordart.org/wp-content/uploads/Winter-Glow-copy.jpeg
END:VEVENT
BEGIN:VEVENT
DTSTART;TZID=America/New_York:20251108T100000
DTEND;TZID=America/New_York:20251108T130000
DTSTAMP:20260422T141824
CREATED:20250805T000615Z
LAST-MODIFIED:20251006T153652Z
UID:10001719-1762596000-1762606800@wickfordart.org
SUMMARY:Exploring Zorn’s Palette in Oils with Lisa McAndrews-Morin
DESCRIPTION:Exploring Zorn’s Palette in Oils with Lisa McAndrews-Morin \nSaturdays October 18\, 25\, November 1\, 8 from 10:00 AM – 1:00 PM (4 Classes) \nYou won’t believe how many colors you can mix with the ZORN PALETTE!!  Artist Anders Zorn (1860-1920) was known for occasionally limiting his color palette to ONLY Yellow Ochre\, Ivory Black\, Cadmium Red/Vermillion\, and White. Zorn used this unique limited palette to create paintings ranging from portraits to landscapes. Come explore the Zorn Palette with Lisa\, and practice putting it to use as you create your own oil paintings.  \nThis class is designed for students of any artistic skill level who already possess basic introductory experience with oil paint.  \n$170 Members | $200 Non-members \nCLASS REGISTRATION – CURRENT MEMBERS \nCLASS REGISTRATION – NON-MEMBERS \nSuggested Supply List
URL:https://wickfordart.org/event/exploring-zorns-palette-in-oils-with-lisa-mcandrews-morin/2025-11-08/
CATEGORIES:Adult Classes,Art Classes,Onsite Classes
ATTACH;FMTTYPE=image/jpeg:https://wickfordart.org/wp-content/uploads/IMG_5728.jpeg
END:VEVENT
BEGIN:VEVENT
DTSTART;TZID=America/New_York:20251109T150000
DTEND;TZID=America/New_York:20251109T180000
DTSTAMP:20260422T141824
CREATED:20250809T011852Z
LAST-MODIFIED:20250926T171259Z
UID:10001814-1762700400-1762711200@wickfordart.org
SUMMARY:From Mess to Masterpiece: Lightroom Basics with Mike Dooley
DESCRIPTION:From Mess to Masterpiece: Lightroom Basics with Mike Dooley \nSunday Nov 9th & Saturday Nov 15th from 3:00 PM – 6:00 PM (2 classes) \nWhether you’re new to Lightroom or need a refresher\, this class will help you take control of your digital darkroom. \nWe’ll start by demystifying the Lightroom catalog — what it is\, how it works\, and why it’s the brain of your photo library. Then\, we’ll dive into the Library Module to import your images\, organize them with folders\, flags\, and ratings\, and learn how to use collections\, smart collections\, and color labels like a pro. \nOnce we’ve got our images wrangled\, we’ll move into the Develop Module where the real magic happens. You’ll learn how to master the Basic panel — from exposure to color correction — and take it up a notch using masks for selective edits that make your photos pop. \nWe’ll finish the day by learning how to export your images for web sharing\, social media\, or sending to friends and family — with your photos looking their absolute best. \nThis hands-on class is perfect for photographers of all levels who want to create a consistent\, efficient\, and creative workflow using Adobe Lightroom Classic. \nMaterials student will need to provide:  Laptop with the latest version of Lightroom Classic from the Photographers Subscription bundle. \n  \n$110 Members | $140 Non-Members  \nCLASS REGISTRATION – CURRENT MEMBERS \nCLASS REGISTRATION – NON-MEMBERS
URL:https://wickfordart.org/event/from-mess-to-masterpiece-lightroom-basics-with-mike-dooley/2025-11-09/
CATEGORIES:Adult Classes,Art Classes,Onsite Classes
ATTACH;FMTTYPE=image/jpeg:https://wickfordart.org/wp-content/uploads/Soft-Sunrise-Mike-Dooley-1.jpg
END:VEVENT
BEGIN:VEVENT
DTSTART;TZID=America/New_York:20251110T100000
DTEND;TZID=America/New_York:20251110T120000
DTSTAMP:20260422T141824
CREATED:20250727T140438Z
LAST-MODIFIED:20250727T140632Z
UID:10001700-1762768800-1762776000@wickfordart.org
SUMMARY:Drawing Studio – A Drawing Club November with Ann Bianchi
DESCRIPTION:Drawing Studio – A Drawing Club November with Ann Bianchi \nMondays\, November 3\, 10\, 17\, 24 –  10:00AM–12:00PM (4 Classes) \nJoin Ann weekly to meet and draw amongst fellow adult artists.  This class is designed to continue into future sessions and will be offered on a rolling basis. Students will be able to sign up for multiple sessions\, creating a consistent monthly group.\nWork on individual projects or in-class topics with guidance from Ann on drawing techniques and methods. \nSee your drawings improve exceptionally in this class. Develop confidence with hands-on practice and individual tips from Ann. Achieve success with contour lines\, values\, highlights\, shadows\, composition\, and many types of perspective. Create amongst fellow artists in a gallery setting. \nBring any drawing materials and papers you may have to class.  All skills learned will support any future two-dimensional art classes. \nLet’s explore the basics of drawing. All levels are welcome. \n$135 Members | $165 Non-members \nCLASS REGISTRATION – CURRENT MEMBERS \nCLASS REGISTRATION – NON-MEMBERS
URL:https://wickfordart.org/event/drawing-studio-a-drawing-club-november-with-ann-bianchi/2025-11-10/
CATEGORIES:Adult Classes,Art Classes,Onsite Classes
ATTACH;FMTTYPE=image/jpeg:https://wickfordart.org/wp-content/uploads/IMG_9348.jpeg
END:VEVENT
BEGIN:VEVENT
DTSTART;TZID=America/New_York:20251115T150000
DTEND;TZID=America/New_York:20251115T180000
DTSTAMP:20260422T141824
CREATED:20250809T011852Z
LAST-MODIFIED:20250926T171259Z
UID:10001815-1763218800-1763229600@wickfordart.org
SUMMARY:From Mess to Masterpiece: Lightroom Basics with Mike Dooley
DESCRIPTION:From Mess to Masterpiece: Lightroom Basics with Mike Dooley \nSunday Nov 9th & Saturday Nov 15th from 3:00 PM – 6:00 PM (2 classes) \nWhether you’re new to Lightroom or need a refresher\, this class will help you take control of your digital darkroom. \nWe’ll start by demystifying the Lightroom catalog — what it is\, how it works\, and why it’s the brain of your photo library. Then\, we’ll dive into the Library Module to import your images\, organize them with folders\, flags\, and ratings\, and learn how to use collections\, smart collections\, and color labels like a pro. \nOnce we’ve got our images wrangled\, we’ll move into the Develop Module where the real magic happens. You’ll learn how to master the Basic panel — from exposure to color correction — and take it up a notch using masks for selective edits that make your photos pop. \nWe’ll finish the day by learning how to export your images for web sharing\, social media\, or sending to friends and family — with your photos looking their absolute best. \nThis hands-on class is perfect for photographers of all levels who want to create a consistent\, efficient\, and creative workflow using Adobe Lightroom Classic. \nMaterials student will need to provide:  Laptop with the latest version of Lightroom Classic from the Photographers Subscription bundle. \n  \n$110 Members | $140 Non-Members  \nCLASS REGISTRATION – CURRENT MEMBERS \nCLASS REGISTRATION – NON-MEMBERS
URL:https://wickfordart.org/event/from-mess-to-masterpiece-lightroom-basics-with-mike-dooley/2025-11-15/
CATEGORIES:Adult Classes,Art Classes,Onsite Classes
ATTACH;FMTTYPE=image/jpeg:https://wickfordart.org/wp-content/uploads/Soft-Sunrise-Mike-Dooley-1.jpg
END:VEVENT
BEGIN:VEVENT
DTSTART;TZID=America/New_York:20251116T123000
DTEND;TZID=America/New_York:20251116T153000
DTSTAMP:20260422T141824
CREATED:20250908T141629Z
LAST-MODIFIED:20251106T211901Z
UID:10001781-1763296200-1763307000@wickfordart.org
SUMMARY:Print Your Own Holiday Cards with Suzanne Lewis
DESCRIPTION:Print Your Own Holiday Cards with Suzanne Lewis \nSunday\, November 16th from 12:30-3:30 (1 class/3 hours) \nLearn a printmaking technique which can be used at home without the use of a press or special printmaking tools or apparatus.  Multiple prints can be created using this method.  Students will also learn how to cut their own stencils which can be put to use other than card-making. \nPochoir is a stenciling technique used in the 19th century to print posters and fashion illustrations.  We will be cutting and printing our own stencils based on your paintings\, drawings\, or photographs.  No previous drawing or printmaking experience necessary. \nSuitable for all levels. \nInstructor Provides: 5×7″ card stock\, acrylic gouache\, stencil “pouncers”\, envelopes \nStudents Bring: 5×7 ” photos or drawings to be used as basis for stencils\, craft knife \n$65 Members | $95 Non-members | $10 Supply Fee (cash or check to instructor) \nCLASS REGISTRATION – CURRENT MEMBERS \nCLASS REGISTRATION – NON-MEMBERS
URL:https://wickfordart.org/event/print-your-own-holiday-cards-with-suzanne-lewis/
CATEGORIES:Adult Classes,Art Classes,Onsite Classes
ATTACH;FMTTYPE=image/jpeg:https://wickfordart.org/wp-content/uploads/polar-bears.jpg
END:VEVENT
BEGIN:VEVENT
DTSTART;TZID=America/New_York:20251117T100000
DTEND;TZID=America/New_York:20251117T120000
DTSTAMP:20260422T141824
CREATED:20250727T140438Z
LAST-MODIFIED:20250727T140632Z
UID:10001701-1763373600-1763380800@wickfordart.org
SUMMARY:Drawing Studio – A Drawing Club November with Ann Bianchi
DESCRIPTION:Drawing Studio – A Drawing Club November with Ann Bianchi \nMondays\, November 3\, 10\, 17\, 24 –  10:00AM–12:00PM (4 Classes) \nJoin Ann weekly to meet and draw amongst fellow adult artists.  This class is designed to continue into future sessions and will be offered on a rolling basis. Students will be able to sign up for multiple sessions\, creating a consistent monthly group.\nWork on individual projects or in-class topics with guidance from Ann on drawing techniques and methods. \nSee your drawings improve exceptionally in this class. Develop confidence with hands-on practice and individual tips from Ann. Achieve success with contour lines\, values\, highlights\, shadows\, composition\, and many types of perspective. Create amongst fellow artists in a gallery setting. \nBring any drawing materials and papers you may have to class.  All skills learned will support any future two-dimensional art classes. \nLet’s explore the basics of drawing. All levels are welcome. \n$135 Members | $165 Non-members \nCLASS REGISTRATION – CURRENT MEMBERS \nCLASS REGISTRATION – NON-MEMBERS
URL:https://wickfordart.org/event/drawing-studio-a-drawing-club-november-with-ann-bianchi/2025-11-17/
CATEGORIES:Adult Classes,Art Classes,Onsite Classes
ATTACH;FMTTYPE=image/jpeg:https://wickfordart.org/wp-content/uploads/IMG_9348.jpeg
END:VEVENT
BEGIN:VEVENT
DTSTART;TZID=America/New_York:20251118T100000
DTEND;TZID=America/New_York:20251118T120000
DTSTAMP:20260422T141824
CREATED:20250808T004356Z
LAST-MODIFIED:20251006T192233Z
UID:10001832-1763460000-1763467200@wickfordart.org
SUMMARY:Fall Back to Nature\, Drawing & Painting with Betsey MacDonald
DESCRIPTION:Fall Back to Nature\, Drawing & Painting with Betsey MacDonald \nTuesdays\, October 28\, November 4\, 18\, 25 – 10:00AM–1:00PM (4 classes) \nNature gives to every time and season some beauties of its own”\, Charles Dickens. October brings us so many things to observe and draw! We’ll study natural objects such as fall foliage\, vegetables and seed pods. From acorns and apples to pumpkins and pine cones\, we’ll marvel at nature’s designs and study the complexity of the life around us as we create art inspired by these objects. Our observation skills will improve as we carefully record what we observe using graphite then colored pencils and finally watercolor. This class is designed for anyone who wants to better see the beauty of nature and use their creativity to study it. \nOnly pencils and erasers are needed for the first class as we’ll discuss other materials as needed also please bring a magnifying glass if you have one.  Materials that you may choose to use:  pencils\, 2B\, 4B and 6B\, erasers\, fine point felt pen\, watercolor (an inexpensive tray is fine) and brushes\, colored pencils. Heavy drawing paper or mixed media paper and watercolor paper. Instructor will bring lots of materials as well. \n$170 Members | $200 Non-members \nCLASS REGISTRATION – CURRENT MEMBERS \nCLASS REGISTRATION – NON-MEMBERS
URL:https://wickfordart.org/event/fall-back-to-nature-drawing-painting-with-betsey-macdonald/2025-11-18/
CATEGORIES:Adult Classes,Art Classes,Onsite Classes
ATTACH;FMTTYPE=image/jpeg:https://wickfordart.org/wp-content/uploads/B3FEF13F-8356-4EA5-97D2-F0A067852DEF.jpg
END:VEVENT
BEGIN:VEVENT
DTSTART;TZID=America/New_York:20251119T150000
DTEND;TZID=America/New_York:20251119T180000
DTSTAMP:20260422T141825
CREATED:20250902T184837Z
LAST-MODIFIED:20250910T135248Z
UID:10001776-1763564400-1763575200@wickfordart.org
SUMMARY:Color & Light\, Explorations in Oils with Sarah Hirsch
DESCRIPTION:Color & Light\, Explorations in Oils with Sarah Hirsch \nWednesdays\, October 1\, 15\, 29\, November 5\, 19  from 3:00pm-6:00pm (5 classes) \nOil paints are a versatile\, evocative medium through which we can explore the beauty of the world around us. Elevate your color mixing techniques and capture fleeting light\, give dynamic energy and depth to your pieces\, and really grow and develop your paintings. Students of mixed-levels are all very welcome\, some experience is helpful. We will learn and apply the fundamentals of color theory and art composition\, and deep-dive into independent studio work with guided instruction and friendly group critiques.\n\n$200 Members | $230 Non-members \nCLASS REGISTRATION – CURRENT MEMBERS \nCLASS REGISTRATION – NON-MEMBERS \nMaterials List
URL:https://wickfordart.org/event/color-light-guided-explorations-in-oils-with-sarah-hirsch/2025-11-19/
CATEGORIES:Adult Classes,Art Classes,Onsite Classes
ATTACH;FMTTYPE=image/jpeg:https://wickfordart.org/wp-content/uploads/Winter-Glow-copy.jpeg
END:VEVENT
BEGIN:VEVENT
DTSTART;TZID=America/New_York:20251124T100000
DTEND;TZID=America/New_York:20251124T120000
DTSTAMP:20260422T141825
CREATED:20250727T140438Z
LAST-MODIFIED:20250727T140632Z
UID:10001702-1763978400-1763985600@wickfordart.org
SUMMARY:Drawing Studio – A Drawing Club November with Ann Bianchi
DESCRIPTION:Drawing Studio – A Drawing Club November with Ann Bianchi \nMondays\, November 3\, 10\, 17\, 24 –  10:00AM–12:00PM (4 Classes) \nJoin Ann weekly to meet and draw amongst fellow adult artists.  This class is designed to continue into future sessions and will be offered on a rolling basis. Students will be able to sign up for multiple sessions\, creating a consistent monthly group.\nWork on individual projects or in-class topics with guidance from Ann on drawing techniques and methods. \nSee your drawings improve exceptionally in this class. Develop confidence with hands-on practice and individual tips from Ann. Achieve success with contour lines\, values\, highlights\, shadows\, composition\, and many types of perspective. Create amongst fellow artists in a gallery setting. \nBring any drawing materials and papers you may have to class.  All skills learned will support any future two-dimensional art classes. \nLet’s explore the basics of drawing. All levels are welcome. \n$135 Members | $165 Non-members \nCLASS REGISTRATION – CURRENT MEMBERS \nCLASS REGISTRATION – NON-MEMBERS
URL:https://wickfordart.org/event/drawing-studio-a-drawing-club-november-with-ann-bianchi/2025-11-24/
CATEGORIES:Adult Classes,Art Classes,Onsite Classes
ATTACH;FMTTYPE=image/jpeg:https://wickfordart.org/wp-content/uploads/IMG_9348.jpeg
END:VEVENT
BEGIN:VEVENT
DTSTART;TZID=America/New_York:20251125T100000
DTEND;TZID=America/New_York:20251125T120000
DTSTAMP:20260422T141825
CREATED:20250808T004356Z
LAST-MODIFIED:20251006T192233Z
UID:10001833-1764064800-1764072000@wickfordart.org
SUMMARY:Fall Back to Nature\, Drawing & Painting with Betsey MacDonald
DESCRIPTION:Fall Back to Nature\, Drawing & Painting with Betsey MacDonald \nTuesdays\, October 28\, November 4\, 18\, 25 – 10:00AM–1:00PM (4 classes) \nNature gives to every time and season some beauties of its own”\, Charles Dickens. October brings us so many things to observe and draw! We’ll study natural objects such as fall foliage\, vegetables and seed pods. From acorns and apples to pumpkins and pine cones\, we’ll marvel at nature’s designs and study the complexity of the life around us as we create art inspired by these objects. Our observation skills will improve as we carefully record what we observe using graphite then colored pencils and finally watercolor. This class is designed for anyone who wants to better see the beauty of nature and use their creativity to study it. \nOnly pencils and erasers are needed for the first class as we’ll discuss other materials as needed also please bring a magnifying glass if you have one.  Materials that you may choose to use:  pencils\, 2B\, 4B and 6B\, erasers\, fine point felt pen\, watercolor (an inexpensive tray is fine) and brushes\, colored pencils. Heavy drawing paper or mixed media paper and watercolor paper. Instructor will bring lots of materials as well. \n$170 Members | $200 Non-members \nCLASS REGISTRATION – CURRENT MEMBERS \nCLASS REGISTRATION – NON-MEMBERS
URL:https://wickfordart.org/event/fall-back-to-nature-drawing-painting-with-betsey-macdonald/2025-11-25/
CATEGORIES:Adult Classes,Art Classes,Onsite Classes
ATTACH;FMTTYPE=image/jpeg:https://wickfordart.org/wp-content/uploads/B3FEF13F-8356-4EA5-97D2-F0A067852DEF.jpg
END:VEVENT
END:VCALENDAR