BEGIN:VCALENDAR
VERSION:2.0
PRODID:-//Wickford Art Association - ECPv6.15.18//NONSGML v1.0//EN
CALSCALE:GREGORIAN
METHOD:PUBLISH
X-ORIGINAL-URL:https://wickfordart.org
X-WR-CALDESC:Events for Wickford Art Association
REFRESH-INTERVAL;VALUE=DURATION:PT1H
X-Robots-Tag:noindex
X-PUBLISHED-TTL:PT1H
BEGIN:VTIMEZONE
TZID:America/New_York
BEGIN:DAYLIGHT
TZOFFSETFROM:-0500
TZOFFSETTO:-0400
TZNAME:EDT
DTSTART:20240310T070000
END:DAYLIGHT
BEGIN:STANDARD
TZOFFSETFROM:-0400
TZOFFSETTO:-0500
TZNAME:EST
DTSTART:20241103T060000
END:STANDARD
BEGIN:DAYLIGHT
TZOFFSETFROM:-0500
TZOFFSETTO:-0400
TZNAME:EDT
DTSTART:20250309T070000
END:DAYLIGHT
BEGIN:STANDARD
TZOFFSETFROM:-0400
TZOFFSETTO:-0500
TZNAME:EST
DTSTART:20251102T060000
END:STANDARD
BEGIN:DAYLIGHT
TZOFFSETFROM:-0500
TZOFFSETTO:-0400
TZNAME:EDT
DTSTART:20260308T070000
END:DAYLIGHT
BEGIN:STANDARD
TZOFFSETFROM:-0400
TZOFFSETTO:-0500
TZNAME:EST
DTSTART:20261101T060000
END:STANDARD
END:VTIMEZONE
BEGIN:VEVENT
DTSTART;TZID=America/New_York:20251001T150000
DTEND;TZID=America/New_York:20251001T180000
DTSTAMP:20260424T060948
CREATED:20250902T184837Z
LAST-MODIFIED:20250910T135248Z
UID:10001772-1759330800-1759341600@wickfordart.org
SUMMARY:Color & Light\, Explorations in Oils with Sarah Hirsch
DESCRIPTION:Color & Light\, Explorations in Oils with Sarah Hirsch \nWednesdays\, October 1\, 15\, 29\, November 5\, 19  from 3:00pm-6:00pm (5 classes) \nOil paints are a versatile\, evocative medium through which we can explore the beauty of the world around us. Elevate your color mixing techniques and capture fleeting light\, give dynamic energy and depth to your pieces\, and really grow and develop your paintings. Students of mixed-levels are all very welcome\, some experience is helpful. We will learn and apply the fundamentals of color theory and art composition\, and deep-dive into independent studio work with guided instruction and friendly group critiques.\n\n$200 Members | $230 Non-members \nCLASS REGISTRATION – CURRENT MEMBERS \nCLASS REGISTRATION – NON-MEMBERS \nMaterials List
URL:https://wickfordart.org/event/color-light-guided-explorations-in-oils-with-sarah-hirsch/2025-10-01/
CATEGORIES:Adult Classes,Art Classes,Onsite Classes
ATTACH;FMTTYPE=image/jpeg:https://wickfordart.org/wp-content/uploads/Winter-Glow-copy.jpeg
END:VEVENT
BEGIN:VEVENT
DTSTART;TZID=America/New_York:20251005T100000
DTEND;TZID=America/New_York:20251005T130000
DTSTAMP:20260424T060948
CREATED:20250316T025026Z
LAST-MODIFIED:20250818T195729Z
UID:10001743-1759658400-1759669200@wickfordart.org
SUMMARY:Sculptural Papermaking Workshop with Lisa May Tobin
DESCRIPTION:Sculptural Papermaking Workshop with Lisa May Tobin \nSundays October 5\, 12\, 19 from 10:00 AM – 1:00 PM (3 classes) \nTurn your artistic vision into reality in this hands-on workshop! Over three inspiring sessions\, you’ll create a stunning three-dimensional work of art using plant fibers that yield a strong\, lasting\, and luxuriously textured finish. In the first session\, we’ll build the armature\, the supportive framework for your masterpiece. In the second\, you’ll craft delicate sheets of paper from beaten pulp and apply them to your form. In the final session\, we’ll add rich layers of paint and thoughtful refinements to bring your creation to life. \n$140 Members | $170 Non-Members  \nCLASS REGISTRATION – CURRENT MEMBERS \nCLASS REGISTRATION – NON-MEMBERS \n 
URL:https://wickfordart.org/event/critique-night-2-2/2025-10-05/
CATEGORIES:Adult Classes,Art Classes,Onsite Classes
ATTACH;FMTTYPE=image/jpeg:https://wickfordart.org/wp-content/uploads/IMG_6349.jpeg
ORGANIZER;CN="Lisa May Tobin":MAILTO:lisamaytobin@gmail.com
END:VEVENT
BEGIN:VEVENT
DTSTART;TZID=America/New_York:20251005T140000
DTEND;TZID=America/New_York:20251005T160000
DTSTAMP:20260424T060948
CREATED:20250814T154023Z
LAST-MODIFIED:20250814T154251Z
UID:10001748-1759672800-1759680000@wickfordart.org
SUMMARY:Watercolors for Autumn with Ann Bianchi
DESCRIPTION:Watercolors for Autumn with Ann Bianchi \nSundays\, October 5\, 12\, 19 –  2:00PM – 4:00PM\, October 26 – 1:00PM– 3:00PM (4 classes) \nLet the beautiful Autumn colors flow.  We’ll begin by sampling color mixing using traditional methods and materials\, then venture into some exciting textural and shadow technique \, using watercolor tips and ideas with surprising results.   \nAlong with color instruction\, there will be drawing suggestions to enhance unique artwork and develop personal styles.  Let’s first create from a variety of  natural subjects on display incorporating practiced methods. Class takers will  then work from favorite photos or subjects of their choice. This is a wonderful class for beginners and experienced painters alike who may also like to seek advice to complete any water media artwork.  \nSuitable for all levels. \nSee supplies listed to bring or purchase from Ann with cash/check for $20.00. \nSuggested Supplies: \n\nWatercolor Paper:  90lb to  140lb  (Or your choice)\nCold Press paper or pad 9×12 or larger (Strathmore\, Arches\, Canson)\nWatercolor tube paints or pan paints:   Primary and Secondary colors of your choice and Black and Brown\nBrushes: (Rounds) 1 small watercolor brush for details\,1 medium and 1 large for loose washes and any extras.\nMasking fluid\nSpray water bottle\nAny drawing pencil/eraser\nWater jar\nExtras for texture\, small toothbrush\, small amount of table Salt\, and saran wrap.\n\n$135 Members | $165 Non-members | $20 Supply Fee \nCLASS REGISTRATION – CURRENT MEMBERS \nCLASS REGISTRATION – NON-MEMBERS
URL:https://wickfordart.org/event/watercolors-for-autumn-with-ann-bianchi/2025-10-05/
CATEGORIES:Adult Classes,Art Classes,Onsite Classes
ATTACH;FMTTYPE=image/jpeg:https://wickfordart.org/wp-content/uploads/Ann-Bianchi-Watercolo-Autumn.jpeg
END:VEVENT
BEGIN:VEVENT
DTSTART;TZID=America/New_York:20251006T130000
DTEND;TZID=America/New_York:20251006T160000
DTSTAMP:20260424T060948
CREATED:20250923T132922Z
LAST-MODIFIED:20250923T133648Z
UID:10001798-1759755600-1759766400@wickfordart.org
SUMMARY:Drawing to Completion: Improve Your Painting by Drawing with Betsey MacDonald
DESCRIPTION:Drawing to Completion: Improve Your Painting by Drawing with Betsey MacDonald \nMonday\, October 6th from 1:00-4:00 PM (1 Class) \nBetsey’s students are enjoying this class immensely\, so we have added an additional date!  New students please feel free to jump in for this one session\, you will enjoy and learn!  Current students are welcome to continue working with Betsey on your projects in process for another three hour class.  Betsey is displaying some of her student’s artwork at the gallery for all to see.  Check it out! \nDegas said\, “If I could have had my own way\, I would have confined myself to black and white.” I LOVE to draw! It’s meditative. It teaches me to better see and understand my subject. It forces me to think about value and how I can create the illusion of 3-dimensional form on a 2-dimensional surface just using different grays. In this class\, we’ll confine ourselves to black and white but with a constant eye toward how our discoveries can be translated into color for our future paintings. We’ll draw to complete finished\, quality pieces. We’ll use simple graphite\, tortillons and erasers to create powerful\, intriguing drawings. We’ll do one still life of our favorite\, interesting variety of objects and one drawing from our own photos. \n$65 Members | $95 Non-members \nCLASS REGISTRATION – CURRENT MEMBERS \nCLASS REGISTRATION – NON-MEMBERS
URL:https://wickfordart.org/event/drawing-to-completion-improve-your-painting-by-drawing-with-betsey-macdonald/
CATEGORIES:Adult Classes,Art Classes,Onsite Classes
ATTACH;FMTTYPE=image/jpeg:https://wickfordart.org/wp-content/uploads/IMG_6236.jpg
END:VEVENT
BEGIN:VEVENT
DTSTART;TZID=America/New_York:20251011T110000
DTEND;TZID=America/New_York:20251011T140000
DTSTAMP:20260424T060948
CREATED:20250926T200005Z
LAST-MODIFIED:20250926T200005Z
UID:10001818-1760180400-1760191200@wickfordart.org
SUMMARY:The Joy of Pastel Art with Ann Bianchi
DESCRIPTION:The Joy of Pastel Art with Ann Bianchi \nSaturday October 11 –  11:00AM–2:00PM (1 class) \nEnjoy this one-day Pastel Art workshop\, with  Ann\, which offers participants the opportunity to create using various types of chalk and oil pastels while exploring  many pastel techniques. Whether you love working with rich colors or quiet tones\, this class offers a welcoming environment to learn foundational techniques such as layout drawing with pastel\, color blending\, layering for depth\, creating smooth gradients\, and building texture through expressive mark-making. Ann will provide guided instructions and demonstrations. Through hands-on practice with oil\, chalk\, and pencil pastels you’ll choose your favorites and work from still life arrangements and/or your own photographs you bring. You’ll begin with practice techniques and complete your own unique works of art. All experience levels are welcome.  \nMaterials provided by instructor $5 fee\, paid to Ann Bianchi at class (check or cash): Blending clothes\, mediums\, pastels. Extra small inspirational objects\, any extra materials if students need them including pastels and canvas boards. Still Life items to draw from and photographs.  \nOR\, students may provide various  pastels\, pastel  papers\, drawing pencils and erasers of their choice.  \n$65 Members | $95 Non-members \nCLASS REGISTRATION – CURRENT MEMBERS \nCLASS REGISTRATION – NON-MEMBERS
URL:https://wickfordart.org/event/the-joy-of-pastel-art-with-ann-bianchi-2/
CATEGORIES:Adult Classes,Art Classes,Onsite Classes
ATTACH;FMTTYPE=image/jpeg:https://wickfordart.org/wp-content/uploads/AnnBianchi-Pastels-.jpg
END:VEVENT
BEGIN:VEVENT
DTSTART;TZID=America/New_York:20251012T100000
DTEND;TZID=America/New_York:20251012T130000
DTSTAMP:20260424T060948
CREATED:20250316T025026Z
LAST-MODIFIED:20250818T195729Z
UID:10001744-1760263200-1760274000@wickfordart.org
SUMMARY:Sculptural Papermaking Workshop with Lisa May Tobin
DESCRIPTION:Sculptural Papermaking Workshop with Lisa May Tobin \nSundays October 5\, 12\, 19 from 10:00 AM – 1:00 PM (3 classes) \nTurn your artistic vision into reality in this hands-on workshop! Over three inspiring sessions\, you’ll create a stunning three-dimensional work of art using plant fibers that yield a strong\, lasting\, and luxuriously textured finish. In the first session\, we’ll build the armature\, the supportive framework for your masterpiece. In the second\, you’ll craft delicate sheets of paper from beaten pulp and apply them to your form. In the final session\, we’ll add rich layers of paint and thoughtful refinements to bring your creation to life. \n$140 Members | $170 Non-Members  \nCLASS REGISTRATION – CURRENT MEMBERS \nCLASS REGISTRATION – NON-MEMBERS \n 
URL:https://wickfordart.org/event/critique-night-2-2/2025-10-12/
CATEGORIES:Adult Classes,Art Classes,Onsite Classes
ATTACH;FMTTYPE=image/jpeg:https://wickfordart.org/wp-content/uploads/IMG_6349.jpeg
ORGANIZER;CN="Lisa May Tobin":MAILTO:lisamaytobin@gmail.com
END:VEVENT
BEGIN:VEVENT
DTSTART;TZID=America/New_York:20251012T140000
DTEND;TZID=America/New_York:20251012T160000
DTSTAMP:20260424T060948
CREATED:20250814T154023Z
LAST-MODIFIED:20250814T154251Z
UID:10001750-1760277600-1760284800@wickfordart.org
SUMMARY:Watercolors for Autumn with Ann Bianchi
DESCRIPTION:Watercolors for Autumn with Ann Bianchi \nSundays\, October 5\, 12\, 19 –  2:00PM – 4:00PM\, October 26 – 1:00PM– 3:00PM (4 classes) \nLet the beautiful Autumn colors flow.  We’ll begin by sampling color mixing using traditional methods and materials\, then venture into some exciting textural and shadow technique \, using watercolor tips and ideas with surprising results.   \nAlong with color instruction\, there will be drawing suggestions to enhance unique artwork and develop personal styles.  Let’s first create from a variety of  natural subjects on display incorporating practiced methods. Class takers will  then work from favorite photos or subjects of their choice. This is a wonderful class for beginners and experienced painters alike who may also like to seek advice to complete any water media artwork.  \nSuitable for all levels. \nSee supplies listed to bring or purchase from Ann with cash/check for $20.00. \nSuggested Supplies: \n\nWatercolor Paper:  90lb to  140lb  (Or your choice)\nCold Press paper or pad 9×12 or larger (Strathmore\, Arches\, Canson)\nWatercolor tube paints or pan paints:   Primary and Secondary colors of your choice and Black and Brown\nBrushes: (Rounds) 1 small watercolor brush for details\,1 medium and 1 large for loose washes and any extras.\nMasking fluid\nSpray water bottle\nAny drawing pencil/eraser\nWater jar\nExtras for texture\, small toothbrush\, small amount of table Salt\, and saran wrap.\n\n$135 Members | $165 Non-members | $20 Supply Fee \nCLASS REGISTRATION – CURRENT MEMBERS \nCLASS REGISTRATION – NON-MEMBERS
URL:https://wickfordart.org/event/watercolors-for-autumn-with-ann-bianchi/2025-10-12/
CATEGORIES:Adult Classes,Art Classes,Onsite Classes
ATTACH;FMTTYPE=image/jpeg:https://wickfordart.org/wp-content/uploads/Ann-Bianchi-Watercolo-Autumn.jpeg
END:VEVENT
BEGIN:VEVENT
DTSTART;TZID=America/New_York:20251014T110000
DTEND;TZID=America/New_York:20251014T140000
DTSTAMP:20260424T060948
CREATED:20250727T135513Z
LAST-MODIFIED:20251002T150701Z
UID:10001691-1760439600-1760450400@wickfordart.org
SUMMARY:One Day Drawing Studio with Ann Bianchi
DESCRIPTION:One Day Drawing Studio with Ann Bianchi \nTuesday October 14th 11:00AM–2:00PM (1 Class) \nLet’s explore the basics of drawing. All levels are welcome. \nWork on individual projects or in-class topics with guidance from Ann on drawing techniques and methods. Develop confidence with hands-on practice and individual tips from Ann. Achieve success with contour lines\, values\, highlights\, shadows\, composition\, and many types of perspective. Create amongst fellow artists in a fun gallery setting. \nBring any drawing materials and papers you may have to class. \n$65 Members | $95 Non-members \nCLASS REGISTRATION – CURRENT MEMBERS \nCLASS REGISTRATION – NON-MEMBERS
URL:https://wickfordart.org/event/drawing-studio-a-drawing-club-october-with-ann-bianchi/
CATEGORIES:Adult Classes,Art Classes,Onsite Classes
ATTACH;FMTTYPE=image/jpeg:https://wickfordart.org/wp-content/uploads/IMG_9347.jpeg
END:VEVENT
BEGIN:VEVENT
DTSTART;TZID=America/New_York:20251015T150000
DTEND;TZID=America/New_York:20251015T180000
DTSTAMP:20260424T060948
CREATED:20250902T184837Z
LAST-MODIFIED:20250910T135248Z
UID:10001773-1760540400-1760551200@wickfordart.org
SUMMARY:Color & Light\, Explorations in Oils with Sarah Hirsch
DESCRIPTION:Color & Light\, Explorations in Oils with Sarah Hirsch \nWednesdays\, October 1\, 15\, 29\, November 5\, 19  from 3:00pm-6:00pm (5 classes) \nOil paints are a versatile\, evocative medium through which we can explore the beauty of the world around us. Elevate your color mixing techniques and capture fleeting light\, give dynamic energy and depth to your pieces\, and really grow and develop your paintings. Students of mixed-levels are all very welcome\, some experience is helpful. We will learn and apply the fundamentals of color theory and art composition\, and deep-dive into independent studio work with guided instruction and friendly group critiques.\n\n$200 Members | $230 Non-members \nCLASS REGISTRATION – CURRENT MEMBERS \nCLASS REGISTRATION – NON-MEMBERS \nMaterials List
URL:https://wickfordart.org/event/color-light-guided-explorations-in-oils-with-sarah-hirsch/2025-10-15/
CATEGORIES:Adult Classes,Art Classes,Onsite Classes
ATTACH;FMTTYPE=image/jpeg:https://wickfordart.org/wp-content/uploads/Winter-Glow-copy.jpeg
END:VEVENT
BEGIN:VEVENT
DTSTART;TZID=America/New_York:20251018T100000
DTEND;TZID=America/New_York:20251018T130000
DTSTAMP:20260424T060948
CREATED:20250805T000615Z
LAST-MODIFIED:20251006T153652Z
UID:10001716-1760781600-1760792400@wickfordart.org
SUMMARY:Exploring Zorn’s Palette in Oils with Lisa McAndrews-Morin
DESCRIPTION:Exploring Zorn’s Palette in Oils with Lisa McAndrews-Morin \nSaturdays October 18\, 25\, November 1\, 8 from 10:00 AM – 1:00 PM (4 Classes) \nYou won’t believe how many colors you can mix with the ZORN PALETTE!!  Artist Anders Zorn (1860-1920) was known for occasionally limiting his color palette to ONLY Yellow Ochre\, Ivory Black\, Cadmium Red/Vermillion\, and White. Zorn used this unique limited palette to create paintings ranging from portraits to landscapes. Come explore the Zorn Palette with Lisa\, and practice putting it to use as you create your own oil paintings.  \nThis class is designed for students of any artistic skill level who already possess basic introductory experience with oil paint.  \n$170 Members | $200 Non-members \nCLASS REGISTRATION – CURRENT MEMBERS \nCLASS REGISTRATION – NON-MEMBERS \nSuggested Supply List
URL:https://wickfordart.org/event/exploring-zorns-palette-in-oils-with-lisa-mcandrews-morin/2025-10-18/
CATEGORIES:Adult Classes,Art Classes,Onsite Classes
ATTACH;FMTTYPE=image/jpeg:https://wickfordart.org/wp-content/uploads/IMG_5728.jpeg
END:VEVENT
BEGIN:VEVENT
DTSTART;TZID=America/New_York:20251019T100000
DTEND;TZID=America/New_York:20251019T130000
DTSTAMP:20260424T060948
CREATED:20250316T025026Z
LAST-MODIFIED:20250818T195729Z
UID:10001745-1760868000-1760878800@wickfordart.org
SUMMARY:Sculptural Papermaking Workshop with Lisa May Tobin
DESCRIPTION:Sculptural Papermaking Workshop with Lisa May Tobin \nSundays October 5\, 12\, 19 from 10:00 AM – 1:00 PM (3 classes) \nTurn your artistic vision into reality in this hands-on workshop! Over three inspiring sessions\, you’ll create a stunning three-dimensional work of art using plant fibers that yield a strong\, lasting\, and luxuriously textured finish. In the first session\, we’ll build the armature\, the supportive framework for your masterpiece. In the second\, you’ll craft delicate sheets of paper from beaten pulp and apply them to your form. In the final session\, we’ll add rich layers of paint and thoughtful refinements to bring your creation to life. \n$140 Members | $170 Non-Members  \nCLASS REGISTRATION – CURRENT MEMBERS \nCLASS REGISTRATION – NON-MEMBERS \n 
URL:https://wickfordart.org/event/critique-night-2-2/2025-10-19/
CATEGORIES:Adult Classes,Art Classes,Onsite Classes
ATTACH;FMTTYPE=image/jpeg:https://wickfordart.org/wp-content/uploads/IMG_6349.jpeg
ORGANIZER;CN="Lisa May Tobin":MAILTO:lisamaytobin@gmail.com
END:VEVENT
BEGIN:VEVENT
DTSTART;TZID=America/New_York:20251019T140000
DTEND;TZID=America/New_York:20251019T160000
DTSTAMP:20260424T060948
CREATED:20250814T154023Z
LAST-MODIFIED:20250814T154251Z
UID:10001751-1760882400-1760889600@wickfordart.org
SUMMARY:Watercolors for Autumn with Ann Bianchi
DESCRIPTION:Watercolors for Autumn with Ann Bianchi \nSundays\, October 5\, 12\, 19 –  2:00PM – 4:00PM\, October 26 – 1:00PM– 3:00PM (4 classes) \nLet the beautiful Autumn colors flow.  We’ll begin by sampling color mixing using traditional methods and materials\, then venture into some exciting textural and shadow technique \, using watercolor tips and ideas with surprising results.   \nAlong with color instruction\, there will be drawing suggestions to enhance unique artwork and develop personal styles.  Let’s first create from a variety of  natural subjects on display incorporating practiced methods. Class takers will  then work from favorite photos or subjects of their choice. This is a wonderful class for beginners and experienced painters alike who may also like to seek advice to complete any water media artwork.  \nSuitable for all levels. \nSee supplies listed to bring or purchase from Ann with cash/check for $20.00. \nSuggested Supplies: \n\nWatercolor Paper:  90lb to  140lb  (Or your choice)\nCold Press paper or pad 9×12 or larger (Strathmore\, Arches\, Canson)\nWatercolor tube paints or pan paints:   Primary and Secondary colors of your choice and Black and Brown\nBrushes: (Rounds) 1 small watercolor brush for details\,1 medium and 1 large for loose washes and any extras.\nMasking fluid\nSpray water bottle\nAny drawing pencil/eraser\nWater jar\nExtras for texture\, small toothbrush\, small amount of table Salt\, and saran wrap.\n\n$135 Members | $165 Non-members | $20 Supply Fee \nCLASS REGISTRATION – CURRENT MEMBERS \nCLASS REGISTRATION – NON-MEMBERS
URL:https://wickfordart.org/event/watercolors-for-autumn-with-ann-bianchi/2025-10-19/
CATEGORIES:Adult Classes,Art Classes,Onsite Classes
ATTACH;FMTTYPE=image/jpeg:https://wickfordart.org/wp-content/uploads/Ann-Bianchi-Watercolo-Autumn.jpeg
END:VEVENT
BEGIN:VEVENT
DTSTART;TZID=America/New_York:20251025T100000
DTEND;TZID=America/New_York:20251025T133000
DTSTAMP:20260424T060948
CREATED:20250805T000615Z
LAST-MODIFIED:20251006T153652Z
UID:10001717-1761386400-1761399000@wickfordart.org
SUMMARY:Exploring Zorn’s Palette in Oils with Lisa McAndrews-Morin
DESCRIPTION:Exploring Zorn’s Palette in Oils with Lisa McAndrews-Morin \nSaturdays October 18\, 25\, November 1\, 8 from 10:00 AM – 1:00 PM (4 Classes) \nYou won’t believe how many colors you can mix with the ZORN PALETTE!!  Artist Anders Zorn (1860-1920) was known for occasionally limiting his color palette to ONLY Yellow Ochre\, Ivory Black\, Cadmium Red/Vermillion\, and White. Zorn used this unique limited palette to create paintings ranging from portraits to landscapes. Come explore the Zorn Palette with Lisa\, and practice putting it to use as you create your own oil paintings.  \nThis class is designed for students of any artistic skill level who already possess basic introductory experience with oil paint.  \n$170 Members | $200 Non-members \nCLASS REGISTRATION – CURRENT MEMBERS \nCLASS REGISTRATION – NON-MEMBERS \nSuggested Supply List
URL:https://wickfordart.org/event/exploring-zorns-palette-in-oils-with-lisa-mcandrews-morin/2025-10-25/
CATEGORIES:Adult Classes,Art Classes,Onsite Classes
ATTACH;FMTTYPE=image/jpeg:https://wickfordart.org/wp-content/uploads/IMG_5728.jpeg
END:VEVENT
BEGIN:VEVENT
DTSTART;TZID=America/New_York:20251026T130000
DTEND;TZID=America/New_York:20251026T150000
DTSTAMP:20260424T060948
CREATED:20250814T154023Z
LAST-MODIFIED:20250814T154251Z
UID:10001752-1761483600-1761490800@wickfordart.org
SUMMARY:Watercolors for Autumn with Ann Bianchi
DESCRIPTION:Watercolors for Autumn with Ann Bianchi \nSundays\, October 5\, 12\, 19 –  2:00PM – 4:00PM\, October 26 – 1:00PM– 3:00PM (4 classes) \nLet the beautiful Autumn colors flow.  We’ll begin by sampling color mixing using traditional methods and materials\, then venture into some exciting textural and shadow technique \, using watercolor tips and ideas with surprising results.   \nAlong with color instruction\, there will be drawing suggestions to enhance unique artwork and develop personal styles.  Let’s first create from a variety of  natural subjects on display incorporating practiced methods. Class takers will  then work from favorite photos or subjects of their choice. This is a wonderful class for beginners and experienced painters alike who may also like to seek advice to complete any water media artwork.  \nSuitable for all levels. \nSee supplies listed to bring or purchase from Ann with cash/check for $20.00. \nSuggested Supplies: \n\nWatercolor Paper:  90lb to  140lb  (Or your choice)\nCold Press paper or pad 9×12 or larger (Strathmore\, Arches\, Canson)\nWatercolor tube paints or pan paints:   Primary and Secondary colors of your choice and Black and Brown\nBrushes: (Rounds) 1 small watercolor brush for details\,1 medium and 1 large for loose washes and any extras.\nMasking fluid\nSpray water bottle\nAny drawing pencil/eraser\nWater jar\nExtras for texture\, small toothbrush\, small amount of table Salt\, and saran wrap.\n\n$135 Members | $165 Non-members | $20 Supply Fee \nCLASS REGISTRATION – CURRENT MEMBERS \nCLASS REGISTRATION – NON-MEMBERS
URL:https://wickfordart.org/event/watercolors-for-autumn-with-ann-bianchi/2025-10-26/
CATEGORIES:Adult Classes,Art Classes,Onsite Classes
ATTACH;FMTTYPE=image/jpeg:https://wickfordart.org/wp-content/uploads/Ann-Bianchi-Watercolo-Autumn.jpeg
END:VEVENT
BEGIN:VEVENT
DTSTART;TZID=America/New_York:20251028T100000
DTEND;TZID=America/New_York:20251028T130000
DTSTAMP:20260424T060948
CREATED:20250808T004356Z
LAST-MODIFIED:20251006T192233Z
UID:10001830-1761645600-1761656400@wickfordart.org
SUMMARY:Fall Back to Nature\, Drawing & Painting with Betsey MacDonald
DESCRIPTION:Fall Back to Nature\, Drawing & Painting with Betsey MacDonald \nTuesdays\, October 28\, November 4\, 18\, 25 – 10:00AM–1:00PM (4 classes) \nNature gives to every time and season some beauties of its own”\, Charles Dickens. October brings us so many things to observe and draw! We’ll study natural objects such as fall foliage\, vegetables and seed pods. From acorns and apples to pumpkins and pine cones\, we’ll marvel at nature’s designs and study the complexity of the life around us as we create art inspired by these objects. Our observation skills will improve as we carefully record what we observe using graphite then colored pencils and finally watercolor. This class is designed for anyone who wants to better see the beauty of nature and use their creativity to study it. \nOnly pencils and erasers are needed for the first class as we’ll discuss other materials as needed also please bring a magnifying glass if you have one.  Materials that you may choose to use:  pencils\, 2B\, 4B and 6B\, erasers\, fine point felt pen\, watercolor (an inexpensive tray is fine) and brushes\, colored pencils. Heavy drawing paper or mixed media paper and watercolor paper. Instructor will bring lots of materials as well. \n$170 Members | $200 Non-members \nCLASS REGISTRATION – CURRENT MEMBERS \nCLASS REGISTRATION – NON-MEMBERS
URL:https://wickfordart.org/event/fall-back-to-nature-drawing-painting-with-betsey-macdonald/2025-10-28/
CATEGORIES:Adult Classes,Art Classes,Onsite Classes
ATTACH;FMTTYPE=image/jpeg:https://wickfordart.org/wp-content/uploads/B3FEF13F-8356-4EA5-97D2-F0A067852DEF.jpg
END:VEVENT
BEGIN:VEVENT
DTSTART;TZID=America/New_York:20251029T150000
DTEND;TZID=America/New_York:20251029T180000
DTSTAMP:20260424T060948
CREATED:20250902T184837Z
LAST-MODIFIED:20250910T135248Z
UID:10001774-1761750000-1761760800@wickfordart.org
SUMMARY:Color & Light\, Explorations in Oils with Sarah Hirsch
DESCRIPTION:Color & Light\, Explorations in Oils with Sarah Hirsch \nWednesdays\, October 1\, 15\, 29\, November 5\, 19  from 3:00pm-6:00pm (5 classes) \nOil paints are a versatile\, evocative medium through which we can explore the beauty of the world around us. Elevate your color mixing techniques and capture fleeting light\, give dynamic energy and depth to your pieces\, and really grow and develop your paintings. Students of mixed-levels are all very welcome\, some experience is helpful. We will learn and apply the fundamentals of color theory and art composition\, and deep-dive into independent studio work with guided instruction and friendly group critiques.\n\n$200 Members | $230 Non-members \nCLASS REGISTRATION – CURRENT MEMBERS \nCLASS REGISTRATION – NON-MEMBERS \nMaterials List
URL:https://wickfordart.org/event/color-light-guided-explorations-in-oils-with-sarah-hirsch/2025-10-29/
CATEGORIES:Adult Classes,Art Classes,Onsite Classes
ATTACH;FMTTYPE=image/jpeg:https://wickfordart.org/wp-content/uploads/Winter-Glow-copy.jpeg
END:VEVENT
END:VCALENDAR