BEGIN:VCALENDAR
VERSION:2.0
PRODID:-//Wickford Art Association - ECPv6.15.18//NONSGML v1.0//EN
CALSCALE:GREGORIAN
METHOD:PUBLISH
X-ORIGINAL-URL:https://wickfordart.org
X-WR-CALDESC:Events for Wickford Art Association
REFRESH-INTERVAL;VALUE=DURATION:PT1H
X-Robots-Tag:noindex
X-PUBLISHED-TTL:PT1H
BEGIN:VTIMEZONE
TZID:America/New_York
BEGIN:DAYLIGHT
TZOFFSETFROM:-0500
TZOFFSETTO:-0400
TZNAME:EDT
DTSTART:20240310T070000
END:DAYLIGHT
BEGIN:STANDARD
TZOFFSETFROM:-0400
TZOFFSETTO:-0500
TZNAME:EST
DTSTART:20241103T060000
END:STANDARD
BEGIN:DAYLIGHT
TZOFFSETFROM:-0500
TZOFFSETTO:-0400
TZNAME:EDT
DTSTART:20250309T070000
END:DAYLIGHT
BEGIN:STANDARD
TZOFFSETFROM:-0400
TZOFFSETTO:-0500
TZNAME:EST
DTSTART:20251102T060000
END:STANDARD
BEGIN:DAYLIGHT
TZOFFSETFROM:-0500
TZOFFSETTO:-0400
TZNAME:EDT
DTSTART:20260308T070000
END:DAYLIGHT
BEGIN:STANDARD
TZOFFSETFROM:-0400
TZOFFSETTO:-0500
TZNAME:EST
DTSTART:20261101T060000
END:STANDARD
END:VTIMEZONE
BEGIN:VEVENT
DTSTART;TZID=America/New_York:20250603T133000
DTEND;TZID=America/New_York:20250603T163000
DTSTAMP:20260421T093428
CREATED:20250316T023555Z
LAST-MODIFIED:20250320T233003Z
UID:10001438-1748957400-1748968200@wickfordart.org
SUMMARY:”More Palette Knife!” Oil Painting with Lisa McAndrews-Morin
DESCRIPTION:“More Palette Knife!” Oil Painting with Lisa McAndews-Morin \nTuesdays May 27\, June 3\, 10\, 17 from 1:30 PM – 4:30 PM (4 Classes) \nPainting with a palette knife helps to create excitement and variation within an oil painting. Used by itself\, or in combination with paint brushes\, learning to paint with palette knives can greatly enhance your oil painting. From smooth soft passages\,interesting textural marks\, to exciting color effects\, the palette knife is versatile and so much fun to use! This class is designed for artists of any artistic skill level who would like to create oil paintings using palette knife techniques.  \nPrerequisite: students must already have basic introductory knowledge/experience with oil paint. \n$170 Members | $200 Non-members \nCLASS REGISTRATION – CURRENT MEMBERS \nCLASS REGISTRATION – NON-MEMBERS
URL:https://wickfordart.org/event/artist-books-2/2025-06-03/
CATEGORIES:Adult Classes,Art Classes,Onsite Classes
ATTACH;FMTTYPE=image/jpeg:https://wickfordart.org/wp-content/uploads/image-4.jpg
END:VEVENT
BEGIN:VEVENT
DTSTART;TZID=America/New_York:20250604T090000
DTEND;TZID=America/New_York:20250604T120000
DTSTAMP:20260421T093428
CREATED:20250422T002234Z
LAST-MODIFIED:20250513T134738Z
UID:10001546-1749027600-1749038400@wickfordart.org
SUMMARY:Making Abstract Faces for Fun with Veronica Janssen
DESCRIPTION:Making Abstract Faces for Fun with Veronica Janssen \nWednesdays\, May 28\, June 4 – 9:00 AM–12:00PM (2 Classes) \nIn this class\, the student will start by making faces using simple drawing tools: crayons\, pencils\, or the student’s choice. They will progress into making a more detailed face and then making an abstract collage face. Students will have an enjoyable and fun experience working to create a one-of-a-kind collage. \n$110 Members | $140 Non-members| $10 Supply Fee \nCLASS REGISTRATION – CURRENT MEMBERS \nCLASS REGISTRATION – NON-MEMBERS
URL:https://wickfordart.org/event/making-abstract-faces-for-fun-with-veronica-janssen/2025-06-04/
CATEGORIES:Adult Classes,Art Classes,Onsite Classes
ATTACH;FMTTYPE=image/jpeg:https://wickfordart.org/wp-content/uploads/IMG_1914.jpeg
END:VEVENT
BEGIN:VEVENT
DTSTART;TZID=America/New_York:20250604T150000
DTEND;TZID=America/New_York:20250604T180000
DTSTAMP:20260421T093428
CREATED:20250316T012701Z
LAST-MODIFIED:20250425T154441Z
UID:10001453-1749049200-1749060000@wickfordart.org
SUMMARY:Painting Spring Flowers with Sarah Hirsch
DESCRIPTION:Painting Spring Flowers with Sarah Hirsch \nWednesday April 23\, 30\, May 14\, 28\, June 4 from 3:00pm-6:00pm ( 5 classes) \nAs the first spring blooms come up around us\, revel in their color and intricacies\, the beautiful luminosity and shine of their petals\, and the soft and unusual shapes they create. This painting class is welcome to any wet media: oils\, acrylic\, gouache\, watercolor\,you name it. We will paint flowers from life and from references\, and we’ll fill the room with colors. \n$200 Members | $230 Non-members \n  \nTHIS CLASS IS FULL \n 
URL:https://wickfordart.org/event/painting-spring-flowers-with-sarah-hirsch-2/2025-06-04/
CATEGORIES:Adult Classes,Art Classes,Onsite Classes
ATTACH;FMTTYPE=image/jpeg:https://wickfordart.org/wp-content/uploads/SHROSE.jpg
END:VEVENT
BEGIN:VEVENT
DTSTART;TZID=America/New_York:20250608T120000
DTEND;TZID=America/New_York:20250608T150000
DTSTAMP:20260421T093428
CREATED:20250521T162609Z
LAST-MODIFIED:20250521T162609Z
UID:10001575-1749384000-1749394800@wickfordart.org
SUMMARY:Summer Plein Air Painting Workshop with Ann Bianchi
DESCRIPTION:Summer Plein Air Painting Workshop with Ann Bianchi \nSunday\, June 8th – 12:00PM–3:00PM (1 Class) \nJoin us for a relaxing one-day Plein air painting workshop. This will take place in front of our waterfront gallery overlooking beautiful Narragansett Bay. We invite you to use your senses as you explore the beauty of painting outdoors. Plein air painting\, or painting “in the open air\,” creates an environment that invites artists to capture natural light\, colors\, and a new perspective of outdoor scenery. In this workshop you will benefit from individual guidance and learn new techniques. You will be offered helpful suggestions as you work in your choice of watercolors or acrylics to capture your special work of art. \nEnjoy this wonderful opportunity to create and connect with nature through art.  Students may bring their own supplies or pay a $6 supply fee to the instructor for all necessary surfaces and paints \n$65 Members | $95 Non-members|Supply Fee $6 (optional) \nCLASS REGISTRATION – CURRENT MEMBERS \nCLASS REGISTRATION – NON-MEMBERS
URL:https://wickfordart.org/event/summer-plein-air-painting-workshop-with-ann-bianchi/
CATEGORIES:Adult Classes,Art Classes,Onsite Classes
ATTACH;FMTTYPE=image/jpeg:https://wickfordart.org/wp-content/uploads/Plein-Air-Ann-Bianchi.jpg
END:VEVENT
BEGIN:VEVENT
DTSTART;TZID=America/New_York:20250609T153000
DTEND;TZID=America/New_York:20250609T173000
DTSTAMP:20260421T093428
CREATED:20250428T203056Z
LAST-MODIFIED:20250529T003827Z
UID:10001565-1749483000-1749490200@wickfordart.org
SUMMARY:Abstract Interpretive Landscape/Seascape with Linda Finnerty
DESCRIPTION:Abstract Interpretive Landscape/Seascape with Linda Finnerty \nMondays\, June 9\, 16\, 30\, July 7 – 3:30 PM – 5:30PM (4 classes) \nLearn to reinterpret the natural landscape with energy\, fluidity\, and/or abstraction. Using acrylic paint and mixed media explore various techniques\, patterns\, shapes\, and colors to enhance your vision as you spontaneously capture the essence of the landscape and the limits of your creativity. Explorations\, exercises\, and techniques will be modeled to support this interpretive style. Attention to individual pace and learning style will support productivity and personal progress.\n\n\n$135 Members | $165 Non-members | $30 Optional Supply Fee \nCLASS REGISTRATION – CURRENT MEMBERS \nCLASS REGISTRATION – NON-MEMBERS  \nSupply List
URL:https://wickfordart.org/event/abstract-interpretive-landscape-seascape-with-linda-finnerty/2025-06-09/
CATEGORIES:Adult Classes,Art Classes,Onsite Classes
ATTACH;FMTTYPE=image/jpeg:https://wickfordart.org/wp-content/uploads/image-2-2.jpg
END:VEVENT
BEGIN:VEVENT
DTSTART;TZID=America/New_York:20250610T133000
DTEND;TZID=America/New_York:20250610T163000
DTSTAMP:20260421T093428
CREATED:20250316T023555Z
LAST-MODIFIED:20250320T233003Z
UID:10001439-1749562200-1749573000@wickfordart.org
SUMMARY:”More Palette Knife!” Oil Painting with Lisa McAndrews-Morin
DESCRIPTION:“More Palette Knife!” Oil Painting with Lisa McAndews-Morin \nTuesdays May 27\, June 3\, 10\, 17 from 1:30 PM – 4:30 PM (4 Classes) \nPainting with a palette knife helps to create excitement and variation within an oil painting. Used by itself\, or in combination with paint brushes\, learning to paint with palette knives can greatly enhance your oil painting. From smooth soft passages\,interesting textural marks\, to exciting color effects\, the palette knife is versatile and so much fun to use! This class is designed for artists of any artistic skill level who would like to create oil paintings using palette knife techniques.  \nPrerequisite: students must already have basic introductory knowledge/experience with oil paint. \n$170 Members | $200 Non-members \nCLASS REGISTRATION – CURRENT MEMBERS \nCLASS REGISTRATION – NON-MEMBERS
URL:https://wickfordart.org/event/artist-books-2/2025-06-10/
CATEGORIES:Adult Classes,Art Classes,Onsite Classes
ATTACH;FMTTYPE=image/jpeg:https://wickfordart.org/wp-content/uploads/image-4.jpg
END:VEVENT
BEGIN:VEVENT
DTSTART;TZID=America/New_York:20250612T180000
DTEND;TZID=America/New_York:20250612T200000
DTSTAMP:20260421T093428
CREATED:20250312T135357Z
LAST-MODIFIED:20250523T005614Z
UID:10001576-1749751200-1749758400@wickfordart.org
SUMMARY:Critique Night
DESCRIPTION:AHA Series (Artists Helping Artists) Presents \nCritique Night                               \nDate: Thursday March 6\, 2025 \nTime:  6:00PM – 8:00PM \nLocation:  36 Beach Street\, North Kingstown \nJoin us for an engaging Critique Night—an opportunity to share your work\, receive constructive feedback\, and connect with fellow artists! Bring a piece of artwork (finished or in progress) and gain valuable insights from peers and professionals in a supportive and encouraging environment. \n\nAll mediums welcome\nFriendly and constructive discussion\nA great way to grow as an artist!\n\nSpace is limited!  \nRegister here to secure your FREE spot! \nFor more information please email us at: wickfordartassociation@gmail.com
URL:https://wickfordart.org/event/critique-night-2-3/2025-06-12/
CATEGORIES:Artist Helping Artists,Onsite Classes
ATTACH;FMTTYPE=image/jpeg:https://wickfordart.org/wp-content/uploads/Untitled-design-4-300x300-1-1.jpg
END:VEVENT
BEGIN:VEVENT
DTSTART;TZID=America/New_York:20250614T090000
DTEND;TZID=America/New_York:20250614T130000
DTSTAMP:20260421T093428
CREATED:20240816T185353Z
LAST-MODIFIED:20250410T191431Z
UID:10000031-1749891600-1749906000@wickfordart.org
SUMMARY:Painting Mushrooms with Gouache with Susan Sward
DESCRIPTION:Saturday\, June 14th 9:00AM-1:00PM (1 Class) \nLet’s explore painting mushrooms and toadstools. They come in a wide variety of colors and shapes\, and they’re so darn cute! Natural science illustrator Susan Sward will guide the class through observation\, color mixing\, the use of gouache\, and patterning. Mushrooms will be rendered in gouache with attention to colors\, pattern\, and shape. Beginners and seasoned artists are both welcome. \n$80 Members | $110 Non-Members | $15 Supply fee \nCLASS REGISTRATION – CURRENT MEMBERS \nCLASS REGISTRATION – NON-MEMBERS
URL:https://wickfordart.org/event/painting-mushrooms-with-gouache-with-susan-sward/
CATEGORIES:Adult Classes,Art Classes,Onsite Classes
ATTACH;FMTTYPE=image/jpeg:https://wickfordart.org/wp-content/uploads/IMG_5717.jpg
END:VEVENT
BEGIN:VEVENT
DTSTART;TZID=America/New_York:20250616T100000
DTEND;TZID=America/New_York:20250616T120000
DTSTAMP:20260421T093429
CREATED:20250527T235143Z
LAST-MODIFIED:20250619T032114Z
UID:10001579-1750068000-1750075200@wickfordart.org
SUMMARY:Drawing Studio - A Drawing Club June & July with Ann Bianchi
DESCRIPTION:Drawing Studio – A Drawing Club June & July with Ann Bianchi \nMondays\, June 16\, 23\, 30\, July 7- 10:00AM–12:00PM (4 Classes) \nJoin Ann weekly to meet and draw amongst fellow adult artists.  This class is designed to continue into future sessions and will be offered on a rolling basis. Students will be able to sign up for multiple sessions\, creating a consistent monthly group.\n\n\nWork on individual projects or in-class topics with guidance from Ann on drawing techniques and methods.\nSee your drawings improve exceptionally in this class. Develop confidence with hands-on practice and individual tips from Ann. Achieve success with contour lines\, values\, highlights\, shadows\, composition\, and many types of perspective. Create amongst fellow artists in a gallery setting.\n\n\nBring any drawing materials and papers you may have to class.  All skills learned will support any future two-dimensional art classes.\n\n\nLet’s explore the basics of drawing. All levels are welcome.\n\n$135 Members | $165 Non-members \nCLASS REGISTRATION – CURRENT MEMBERS \nCLASS REGISTRATION – NON-MEMBERS
URL:https://wickfordart.org/event/drawing-studio-i-ii-with-ann-bianchi/
CATEGORIES:Adult Classes,Art Classes,Onsite Classes
ATTACH;FMTTYPE=image/jpeg:https://wickfordart.org/wp-content/uploads/Ann-Studio-Class.jpg
END:VEVENT
BEGIN:VEVENT
DTSTART;TZID=America/New_York:20250616T153000
DTEND;TZID=America/New_York:20250616T173000
DTSTAMP:20260421T093429
CREATED:20250428T203056Z
LAST-MODIFIED:20250529T003827Z
UID:10001566-1750087800-1750095000@wickfordart.org
SUMMARY:Abstract Interpretive Landscape/Seascape with Linda Finnerty
DESCRIPTION:Abstract Interpretive Landscape/Seascape with Linda Finnerty \nMondays\, June 9\, 16\, 30\, July 7 – 3:30 PM – 5:30PM (4 classes) \nLearn to reinterpret the natural landscape with energy\, fluidity\, and/or abstraction. Using acrylic paint and mixed media explore various techniques\, patterns\, shapes\, and colors to enhance your vision as you spontaneously capture the essence of the landscape and the limits of your creativity. Explorations\, exercises\, and techniques will be modeled to support this interpretive style. Attention to individual pace and learning style will support productivity and personal progress.\n\n\n$135 Members | $165 Non-members | $30 Optional Supply Fee \nCLASS REGISTRATION – CURRENT MEMBERS \nCLASS REGISTRATION – NON-MEMBERS  \nSupply List
URL:https://wickfordart.org/event/abstract-interpretive-landscape-seascape-with-linda-finnerty/2025-06-16/
CATEGORIES:Adult Classes,Art Classes,Onsite Classes
ATTACH;FMTTYPE=image/jpeg:https://wickfordart.org/wp-content/uploads/image-2-2.jpg
END:VEVENT
BEGIN:VEVENT
DTSTART;TZID=America/New_York:20250616T180000
DTEND;TZID=America/New_York:20250616T200000
DTSTAMP:20260421T093429
CREATED:20250509T022328Z
LAST-MODIFIED:20250523T014734Z
UID:10000609-1750096800-1750104000@wickfordart.org
SUMMARY:Your Art and Your Audience - The Social Media Basics
DESCRIPTION:AHA Series (Artists Helping Artists) Presents \nYour Art and Your Audience – The Social Media Basics                          \nDate: Monday\, June 16\, 2025 \nTime:  6:00PM – 8:00PM \nLocation:  36 Beach Street\, North Kingstown \nInstructed by Ali from Ali Mac Marketing this class is personally designed to help artists confidently use basic tools like Facebook and Instagram to market their art with ease. Whether you’re just starting to explore social media or looking to build a consistent online presence\, Your Art\, Your Audience will guide you through simple\, effective ways to share your work\, grow your audience\, and connect with your community without the overwhelm.\n\nSpace is limited!  \nRegister here to secure your FREE spot! \nFor more information please email us at: wickfordartassociation@gmail.com
URL:https://wickfordart.org/event/critique-night-2/
CATEGORIES:Artist Helping Artists,Onsite Classes
ATTACH;FMTTYPE=image/jpeg:https://wickfordart.org/wp-content/uploads/AHA-Looking-At-Art-2025-6-x-4-in.jpg
END:VEVENT
BEGIN:VEVENT
DTSTART;TZID=America/New_York:20250617T123000
DTEND;TZID=America/New_York:20250617T163000
DTSTAMP:20260421T093429
CREATED:20250316T023555Z
LAST-MODIFIED:20250320T233003Z
UID:10001440-1750163400-1750177800@wickfordart.org
SUMMARY:”More Palette Knife!” Oil Painting with Lisa McAndrews-Morin
DESCRIPTION:“More Palette Knife!” Oil Painting with Lisa McAndews-Morin \nTuesdays May 27\, June 3\, 10\, 17 from 1:30 PM – 4:30 PM (4 Classes) \nPainting with a palette knife helps to create excitement and variation within an oil painting. Used by itself\, or in combination with paint brushes\, learning to paint with palette knives can greatly enhance your oil painting. From smooth soft passages\,interesting textural marks\, to exciting color effects\, the palette knife is versatile and so much fun to use! This class is designed for artists of any artistic skill level who would like to create oil paintings using palette knife techniques.  \nPrerequisite: students must already have basic introductory knowledge/experience with oil paint. \n$170 Members | $200 Non-members \nCLASS REGISTRATION – CURRENT MEMBERS \nCLASS REGISTRATION – NON-MEMBERS
URL:https://wickfordart.org/event/artist-books-2/2025-06-17/
CATEGORIES:Adult Classes,Art Classes,Onsite Classes
ATTACH;FMTTYPE=image/jpeg:https://wickfordart.org/wp-content/uploads/image-4.jpg
END:VEVENT
BEGIN:VEVENT
DTSTART;TZID=America/New_York:20250620T100000
DTEND;TZID=America/New_York:20250620T150000
DTSTAMP:20260421T093429
CREATED:20250408T192706Z
LAST-MODIFIED:20250605T161412Z
UID:10001499-1750413600-1750431600@wickfordart.org
SUMMARY:The Art of Painting with Alcohol Inks - Beginners/Intermediate with Mary Wojciechowski
DESCRIPTION:The Art of Painting with Alcohol Inks – Beginners/Intermediate with Mary Wojciechowski  \nFriday\, June 20- 10:00AM–3:00PM (1 Class) \nThis workshop is deisnged for all levels of experience.  Instruction will be divided to accommodate all\, introduing beginners to strategies for working with this exciting medium. \nFor those with experience\, it is desinged to build upon their prior knowledge\, introducing students to more advanced techinques in painting with this medium nd opportunities to wor in a larger format\, if desired. \nDuring the five-hour workshop\, students will explore the unique qualities of alcohol ink and how it may be used for flowing abstracted works with the addition of representational elements.  Attention to design and color will be emphasized\, and opportunties to creat florals or landscapes using brushwork will be included for those who wish.  Class time will be divided between demonstrations of the unique possibilities in painting with this medium and time for personal exploration and experimentation with a sense of creative playfulness. \n$95 Members | $125 Non-Members | $7 Materials Fee \nCLASS REGISTRATION – CURRENT MEMBERS \nCLASS REGISTRATION – NON-MEMBERS
URL:https://wickfordart.org/event/the-art-of-painting-with-alcohol-inks-beginners-intermediate-with-mary-wojciechowski/
CATEGORIES:Adult Classes,Art Classes,Onsite Classes
ATTACH;FMTTYPE=image/jpeg:https://wickfordart.org/wp-content/uploads/WOJCIECHOWSKI_WILDFLOWERS-copy.jpg
END:VEVENT
BEGIN:VEVENT
DTSTART;TZID=America/New_York:20250622T100000
DTEND;TZID=America/New_York:20250622T130000
DTSTAMP:20260421T093429
CREATED:20240711T180555Z
LAST-MODIFIED:20250624T010722Z
UID:10001474-1750586400-1750597200@wickfordart.org
SUMMARY:Summer Watercolors with Ann E. Bianchi
DESCRIPTION:Sundays June 22\, 29 from 10:00AM- 1:00PM (2 Classes)  \nLet the colors flow and bring your special style to class .We will focus on your favorite photo of landscape or urban theme using colors and review perspective techniques. We will be creating with some traditional methods and materials\, then venture into some textural techniques\, using tips and ideas with surprising results. There will be color mixing\, value practice\, drawing lessons\, and plenty of sampling throughout the class with personal instructions to enhance your art. We’ll work from a mix of natural local items focusing on textures and details but with a free and loose style. Enjoy creating variety in this class. This is a wonderful class for beginners and experienced water media painters alike. $10.00 all supplies included use of paints/supplies and varieties of paper. \n$110 Members | $140 Non-Members | $10 Supply Fee \nCLASS REGISTRATION – CURRENT MEMBERS \nCLASS REGISTRATION – NON-MEMBERS
URL:https://wickfordart.org/event/summer-watercolors-with-ann-e-bianchi/2025-06-22/
CATEGORIES:Adult Classes,Art Classes,Onsite Classes
ATTACH;FMTTYPE=image/jpeg:https://wickfordart.org/wp-content/uploads/Bianchi-Narraganset-Towers-at-Sunrise-1.jpg
END:VEVENT
BEGIN:VEVENT
DTSTART;TZID=America/New_York:20250623T100000
DTEND;TZID=America/New_York:20250623T120000
DTSTAMP:20260421T093429
CREATED:20250623T144204Z
LAST-MODIFIED:20250624T010306Z
UID:10001580-1750672800-1750680000@wickfordart.org
SUMMARY:Drawing Studio - A Drawing Club June & July with Ann Bianchi
DESCRIPTION:Drawing Studio – A Drawing Club June & July with Ann Bianchi \nMondays\, June 16\, 23\, 30\, July 7- 10:00AM–12:00PM (4 Classes) \nJoin Ann weekly to meet and draw amongst fellow adult artists.  This class is designed to continue into future sessions and will be offered on a rolling basis. Students will be able to sign up for multiple sessions\, creating a consistent monthly group.\nWork on individual projects or in-class topics with guidance from Ann on drawing techniques and methods.\nSee your drawings improve exceptionally in this class. Develop confidence with hands-on practice and individual tips from Ann. Achieve success with contour lines\, values\, highlights\, shadows\, composition\, and many types of perspective. Create amongst fellow artists in a gallery setting. \nBring any drawing materials and papers you may have to class.  All skills learned will support any future two-dimensional art classes. \nLet’s explore the basics of drawing. All levels are welcome.\n$135 Members | $165 Non-members \nCLASS REGISTRATION – CURRENT MEMBERS \nCLASS REGISTRATION – NON-MEMBERS
URL:https://wickfordart.org/event/drawing-studio-i-ii-with-ann-bianchi-2/2025-06-23/
CATEGORIES:Adult Classes,Art Classes,Onsite Classes
ATTACH;FMTTYPE=image/jpeg:https://wickfordart.org/wp-content/uploads/Ann-Studio-Class.jpg
END:VEVENT
BEGIN:VEVENT
DTSTART;TZID=America/New_York:20250628T100000
DTEND;TZID=America/New_York:20250628T140000
DTSTAMP:20260421T093429
CREATED:20250407T143552Z
LAST-MODIFIED:20250407T143705Z
UID:10001478-1751104800-1751119200@wickfordart.org
SUMMARY:Nature of Nests with Betsey MacDonald
DESCRIPTION:Nature of Nests with Betsey MacDonald \nSaturday June 28th\, 10:00AM – 2:00PM (1 class) \nDrawing is the bedrock of artistic practice! For this adult class we’ll carefully study and draw nests. Using graphite or more simply\, pencil\, we’ll learn about subtractive or reductive drawing. We’ll gain an understanding of setting a ground and erasing highlights to create an image as well as building it up with marks. We will complete a detailed study of the amazing texture and interweaving of grasses\, sticks and other found items in nests. We’ll look at the contrast between light and shadow and focus on negative spaces within a nest. Through observation and the use of graphite\, we’ll learn to really look at some of nature’s most exquisite handiwork as we create our own art and realize that nests are works of art as well. As Aristotle said\, “In all things in nature there is something of the marvelous” and few things are as marvelous as bird’s nests! \n$80 Members| $110 Non Members \nCLASS REGISTRATION – CURRENT MEMBERS \nCLASS REGISTRATION – NON-MEMBERS
URL:https://wickfordart.org/event/nature-of-nests-with-betsey-macdonald/
CATEGORIES:Adult Classes,Art Classes,Onsite Classes
ATTACH;FMTTYPE=image/jpeg:https://wickfordart.org/wp-content/uploads/Betsey-MacDonald-Nests-Class.jpg
END:VEVENT
BEGIN:VEVENT
DTSTART;TZID=America/New_York:20250629T100000
DTEND;TZID=America/New_York:20250629T130000
DTSTAMP:20260421T093429
CREATED:20240711T180555Z
LAST-MODIFIED:20250624T010722Z
UID:10001475-1751191200-1751202000@wickfordart.org
SUMMARY:Summer Watercolors with Ann E. Bianchi
DESCRIPTION:Sundays June 22\, 29 from 10:00AM- 1:00PM (2 Classes)  \nLet the colors flow and bring your special style to class .We will focus on your favorite photo of landscape or urban theme using colors and review perspective techniques. We will be creating with some traditional methods and materials\, then venture into some textural techniques\, using tips and ideas with surprising results. There will be color mixing\, value practice\, drawing lessons\, and plenty of sampling throughout the class with personal instructions to enhance your art. We’ll work from a mix of natural local items focusing on textures and details but with a free and loose style. Enjoy creating variety in this class. This is a wonderful class for beginners and experienced water media painters alike. $10.00 all supplies included use of paints/supplies and varieties of paper. \n$110 Members | $140 Non-Members | $10 Supply Fee \nCLASS REGISTRATION – CURRENT MEMBERS \nCLASS REGISTRATION – NON-MEMBERS
URL:https://wickfordart.org/event/summer-watercolors-with-ann-e-bianchi/2025-06-29/
CATEGORIES:Adult Classes,Art Classes,Onsite Classes
ATTACH;FMTTYPE=image/jpeg:https://wickfordart.org/wp-content/uploads/Bianchi-Narraganset-Towers-at-Sunrise-1.jpg
END:VEVENT
BEGIN:VEVENT
DTSTART;TZID=America/New_York:20250630T100000
DTEND;TZID=America/New_York:20250630T120000
DTSTAMP:20260421T093429
CREATED:20250623T144204Z
LAST-MODIFIED:20250624T010306Z
UID:10001581-1751277600-1751284800@wickfordart.org
SUMMARY:Drawing Studio - A Drawing Club June & July with Ann Bianchi
DESCRIPTION:Drawing Studio – A Drawing Club June & July with Ann Bianchi \nMondays\, June 16\, 23\, 30\, July 7- 10:00AM–12:00PM (4 Classes) \nJoin Ann weekly to meet and draw amongst fellow adult artists.  This class is designed to continue into future sessions and will be offered on a rolling basis. Students will be able to sign up for multiple sessions\, creating a consistent monthly group.\nWork on individual projects or in-class topics with guidance from Ann on drawing techniques and methods.\nSee your drawings improve exceptionally in this class. Develop confidence with hands-on practice and individual tips from Ann. Achieve success with contour lines\, values\, highlights\, shadows\, composition\, and many types of perspective. Create amongst fellow artists in a gallery setting. \nBring any drawing materials and papers you may have to class.  All skills learned will support any future two-dimensional art classes. \nLet’s explore the basics of drawing. All levels are welcome.\n$135 Members | $165 Non-members \nCLASS REGISTRATION – CURRENT MEMBERS \nCLASS REGISTRATION – NON-MEMBERS
URL:https://wickfordart.org/event/drawing-studio-i-ii-with-ann-bianchi-2/2025-06-30/
CATEGORIES:Adult Classes,Art Classes,Onsite Classes
ATTACH;FMTTYPE=image/jpeg:https://wickfordart.org/wp-content/uploads/Ann-Studio-Class.jpg
END:VEVENT
BEGIN:VEVENT
DTSTART;TZID=America/New_York:20250630T153000
DTEND;TZID=America/New_York:20250630T173000
DTSTAMP:20260421T093429
CREATED:20250428T203056Z
LAST-MODIFIED:20250529T003827Z
UID:10001567-1751297400-1751304600@wickfordart.org
SUMMARY:Abstract Interpretive Landscape/Seascape with Linda Finnerty
DESCRIPTION:Abstract Interpretive Landscape/Seascape with Linda Finnerty \nMondays\, June 9\, 16\, 30\, July 7 – 3:30 PM – 5:30PM (4 classes) \nLearn to reinterpret the natural landscape with energy\, fluidity\, and/or abstraction. Using acrylic paint and mixed media explore various techniques\, patterns\, shapes\, and colors to enhance your vision as you spontaneously capture the essence of the landscape and the limits of your creativity. Explorations\, exercises\, and techniques will be modeled to support this interpretive style. Attention to individual pace and learning style will support productivity and personal progress.\n\n\n$135 Members | $165 Non-members | $30 Optional Supply Fee \nCLASS REGISTRATION – CURRENT MEMBERS \nCLASS REGISTRATION – NON-MEMBERS  \nSupply List
URL:https://wickfordart.org/event/abstract-interpretive-landscape-seascape-with-linda-finnerty/2025-06-30/
CATEGORIES:Adult Classes,Art Classes,Onsite Classes
ATTACH;FMTTYPE=image/jpeg:https://wickfordart.org/wp-content/uploads/image-2-2.jpg
END:VEVENT
END:VCALENDAR