BEGIN:VCALENDAR
VERSION:2.0
PRODID:-//Wickford Art Association - ECPv6.15.18//NONSGML v1.0//EN
CALSCALE:GREGORIAN
METHOD:PUBLISH
X-ORIGINAL-URL:https://wickfordart.org
X-WR-CALDESC:Events for Wickford Art Association
REFRESH-INTERVAL;VALUE=DURATION:PT1H
X-Robots-Tag:noindex
X-PUBLISHED-TTL:PT1H
BEGIN:VTIMEZONE
TZID:America/New_York
BEGIN:DAYLIGHT
TZOFFSETFROM:-0500
TZOFFSETTO:-0400
TZNAME:EDT
DTSTART:20240310T070000
END:DAYLIGHT
BEGIN:STANDARD
TZOFFSETFROM:-0400
TZOFFSETTO:-0500
TZNAME:EST
DTSTART:20241103T060000
END:STANDARD
BEGIN:DAYLIGHT
TZOFFSETFROM:-0500
TZOFFSETTO:-0400
TZNAME:EDT
DTSTART:20250309T070000
END:DAYLIGHT
BEGIN:STANDARD
TZOFFSETFROM:-0400
TZOFFSETTO:-0500
TZNAME:EST
DTSTART:20251102T060000
END:STANDARD
BEGIN:DAYLIGHT
TZOFFSETFROM:-0500
TZOFFSETTO:-0400
TZNAME:EDT
DTSTART:20260308T070000
END:DAYLIGHT
BEGIN:STANDARD
TZOFFSETFROM:-0400
TZOFFSETTO:-0500
TZNAME:EST
DTSTART:20261101T060000
END:STANDARD
END:VTIMEZONE
BEGIN:VEVENT
DTSTART;TZID=America/New_York:20251026T160000
DTEND;TZID=America/New_York:20251026T180000
DTSTAMP:20260421T055428
CREATED:20250316T004143Z
LAST-MODIFIED:20251007T175316Z
UID:10000743-1761494400-1761501600@wickfordart.org
SUMMARY:How To Submit A Photo To An Exhibition
DESCRIPTION:Date:  Sunday\, October 26th \nTime:  4:00 PM – 6:00 PM \nLocation:  36 Beach Street\, North Kingstown \nSpace is limited!   \nRegister here to secure your FREE spot! \nLearn best practices for entering exhibitions! Our artist facilitators will walk you through the essential steps to ensure a professional and polished submission. You’ll gain valuable insights on how to properly photograph your artwork\, adjust cropping and sizing\, label imagery correctly\, and seamlessly upload your information to our application platform. Whether you’re new to exhibiting or looking to refine your process\, this session will help you present your work at its absolute best! \n 
URL:https://wickfordart.org/event/how-to-submit-to-an-exhibition/
CATEGORIES:Artist Helping Artists
ATTACH;FMTTYPE=image/jpeg:https://wickfordart.org/wp-content/uploads/AHA-Looking-At-Art-2025-6-x-4-in.jpg
END:VEVENT
BEGIN:VEVENT
DTSTART;TZID=America/New_York:20250616T180000
DTEND;TZID=America/New_York:20250616T200000
DTSTAMP:20260421T055428
CREATED:20250509T022328Z
LAST-MODIFIED:20250523T014734Z
UID:10000609-1750096800-1750104000@wickfordart.org
SUMMARY:Your Art and Your Audience - The Social Media Basics
DESCRIPTION:AHA Series (Artists Helping Artists) Presents \nYour Art and Your Audience – The Social Media Basics                          \nDate: Monday\, June 16\, 2025 \nTime:  6:00PM – 8:00PM \nLocation:  36 Beach Street\, North Kingstown \nInstructed by Ali from Ali Mac Marketing this class is personally designed to help artists confidently use basic tools like Facebook and Instagram to market their art with ease. Whether you’re just starting to explore social media or looking to build a consistent online presence\, Your Art\, Your Audience will guide you through simple\, effective ways to share your work\, grow your audience\, and connect with your community without the overwhelm.\n\nSpace is limited!  \nRegister here to secure your FREE spot! \nFor more information please email us at: wickfordartassociation@gmail.com
URL:https://wickfordart.org/event/critique-night-2/
CATEGORIES:Artist Helping Artists,Onsite Classes
ATTACH;FMTTYPE=image/jpeg:https://wickfordart.org/wp-content/uploads/AHA-Looking-At-Art-2025-6-x-4-in.jpg
END:VEVENT
BEGIN:VEVENT
DTSTART;TZID=America/New_York:20250517T100000
DTEND;TZID=America/New_York:20250517T120000
DTSTAMP:20260421T055428
CREATED:20250316T004344Z
LAST-MODIFIED:20250327T164647Z
UID:10000744-1747476000-1747483200@wickfordart.org
SUMMARY:How To Submit To An Exhibition II
DESCRIPTION:Date:  Saturday\, May 17th  \nTime:  10:00 AM – 12:00 PM \nLocation:  36 Beach Street\, North Kingstown \nSpace is limted!  Register here to secure your FREE spot! \nLearn best practices for entering exhibitions! Our artist facilitators will walk you through the essential steps to ensure a professional and polished submission. You’ll gain valuable insights on how to properly photograph your artwork\, adjust cropping and sizing\, label imagery correctly\, and seamlessly upload your information to our application platform. Whether you’re new to exhibiting or looking to refine your process\, this session will help you present your work at its absolute best!
URL:https://wickfordart.org/event/how-to-sumit-to-an-exhibition-ii/
CATEGORIES:Artist Helping Artists
ATTACH;FMTTYPE=image/jpeg:https://wickfordart.org/wp-content/uploads/AHA-Looking-At-Art-2025-6-x-4-in.jpg
END:VEVENT
BEGIN:VEVENT
DTSTART;TZID=America/New_York:20250428T183000
DTEND;TZID=America/New_York:20250428T193000
DTSTAMP:20260421T055428
CREATED:20250403T200827Z
LAST-MODIFIED:20250404T134603Z
UID:10001463-1745865000-1745868600@wickfordart.org
SUMMARY:Framing for Artists: Best Practices for Artists Intending on Framing & Selling Art
DESCRIPTION:Date:  Monday\, April 28th \nTime:  6:30 PM – 7:30 PM \nLocation:  36 Beach Street\, North Kingstown \nSpace is limted!   \nRegister here to secure your FREE spot! \nTailored for artists\, this workshop offers valuable insights from the highly talented Brendan McCarthy of Crestar.Art\, sharing a professional framer’s perspective. \nFrom signature placement to designing art with a view to framing\, before you create the art. Whether you’re preparing for an exhibit or simply want to elevate your pieces\, this workshop will help you showcase your artwork in a way that draws the viewer’s attention and enhances its overall impact\, while maximizing your value. \nTopics Included: \n\nFrame Purpose: to Protect and Present\nGlass types\nFrame materials and designs\nIndustry Standard Sizes\nScans and Prints\nMounting Art\nCanvas\nMatboards\nArt Pricing
URL:https://wickfordart.org/event/framing-for-artists-best-practices-for-artists-intending-on-framing-selling-art/
CATEGORIES:Artist Helping Artists
ATTACH;FMTTYPE=image/jpeg:https://wickfordart.org/wp-content/uploads/AHA-Looking-At-Art-2025-6-x-4-in.jpg
END:VEVENT
END:VCALENDAR