BEGIN:VCALENDAR
VERSION:2.0
PRODID:-//Wickford Art Association - ECPv6.15.18//NONSGML v1.0//EN
CALSCALE:GREGORIAN
METHOD:PUBLISH
X-WR-CALNAME:Wickford Art Association
X-ORIGINAL-URL:https://wickfordart.org
X-WR-CALDESC:Events for Wickford Art Association
REFRESH-INTERVAL;VALUE=DURATION:PT1H
X-Robots-Tag:noindex
X-PUBLISHED-TTL:PT1H
BEGIN:VTIMEZONE
TZID:America/New_York
BEGIN:DAYLIGHT
TZOFFSETFROM:-0500
TZOFFSETTO:-0400
TZNAME:EDT
DTSTART:20250309T070000
END:DAYLIGHT
BEGIN:STANDARD
TZOFFSETFROM:-0400
TZOFFSETTO:-0500
TZNAME:EST
DTSTART:20251102T060000
END:STANDARD
BEGIN:DAYLIGHT
TZOFFSETFROM:-0500
TZOFFSETTO:-0400
TZNAME:EDT
DTSTART:20260308T070000
END:DAYLIGHT
BEGIN:STANDARD
TZOFFSETFROM:-0400
TZOFFSETTO:-0500
TZNAME:EST
DTSTART:20261101T060000
END:STANDARD
BEGIN:DAYLIGHT
TZOFFSETFROM:-0500
TZOFFSETTO:-0400
TZNAME:EDT
DTSTART:20270314T070000
END:DAYLIGHT
BEGIN:STANDARD
TZOFFSETFROM:-0400
TZOFFSETTO:-0500
TZNAME:EST
DTSTART:20271107T060000
END:STANDARD
END:VTIMEZONE
BEGIN:VEVENT
DTSTART;TZID=America/New_York:20260425T130000
DTEND;TZID=America/New_York:20260425T160000
DTSTAMP:20260423T073948
CREATED:20260209T142422Z
LAST-MODIFIED:20260413T175328Z
UID:10001966-1777122000-1777132800@wickfordart.org
SUMMARY:Land and Sea\, Outdoor Oil Painting with Lisa McAndrews-Morin
DESCRIPTION:Land and Sea\, Outdoor Oil Painting with Lisa McAndrews-Morin \nSaturdays\, April 18\, 25\, May 2\, 9 from 1:00 PM – 4:00 PM (4 Classes) \nGet ready to pack up your painting gear and head outdoors for some SPRING Plein Air painting! There is no substitute for the artistic lessons that can be learned\, and the enjoyment that can be experienced\, from painting outdoors. During this class we will create original\, one-of-a-kind\, Plein Air landscape and seascape paintings at various Rhode Island locations (to be announced). Lisa will guide you through the process with specific emphasis placed on composition\, simplification\, and seeing atmospheric color and value. Learning with Lisa is relaxing and fun\, and her stepwise approach to teaching provides students with plenty of learning and pearls of painting wisdom.  (This class is designed for students who already possess basic introductory OIL painting experience). \nClass locations will range from Jamestown to West Greenwich. \nSuggested Supply List \n$170 Members | $200 Non-members \nCLASS REGISTRATION – CURRENT MEMBERS \nCLASS REGISTRATION – NON-MEMBERS
URL:https://wickfordart.org/event/land-and-sea-outdoor-oil-painting-with-lisa-mcandrews-morin/2026-04-25/
CATEGORIES:Adult Classes,Art Classes
ATTACH;FMTTYPE=image/jpeg:https://wickfordart.org/wp-content/uploads/IMG_7579.jpeg
END:VEVENT
BEGIN:VEVENT
DTSTART;TZID=America/New_York:20260426T130000
DTEND;TZID=America/New_York:20260426T160000
DTSTAMP:20260423T073948
CREATED:20260309T201517Z
LAST-MODIFIED:20260309T201517Z
UID:10001993-1777208400-1777219200@wickfordart.org
SUMMARY:Fearless Color: Relaxed Watercolor Mixing with Victoria Bishop
DESCRIPTION:Fearless Color: Relaxed Watercolor Mixing with Victoria Bishop \nSundays April 26 and May 3 from 1:00 – 4:00 PM (2 classes) \nIntermediate \nClass Description: Watercolor mixing can feel mysterious—even intimidating. In this relaxed\, hands‑on two‑session workshop\, students learn how to mix clean\, luminous color without fear of creating “mud.” We explore warm and cool color bias\, chromatic neutrals\, and limited palette strategies in a flexible\, approachable way. The class emphasizes curiosity over perfection and gives painters practical tools they can immediately apply to their own work. \nCourse Objectives: • Understand pigment bias and how it affects watercolor mixing • Mix clean secondary and tertiary colors intentionally • Create luminous neutrals without using black • Control warm and cool color shifts for depth and harmony • Design a small personal palette for cohesive painting • Complete small color studies applying new mixing confidence \nMaterials Provided by Instructor ($10 fee): • Pre‑printed mixing grids • Pre‑cut watercolor paper for exercises and studies • Demonstrations and reference examples • Limited pigment set for experimentation • Water containers • Brushes \nOptional Materials Students may Provide: a favorite white Palette • watercolor brushes • Pencil • Optional: favorite paints students want help understanding\n$110 Members | $140 Non-members +Supply Fee $10 (direct to instructor) \nCLASS REGISTRATION – CURRENT MEMBERS \nCLASS REGISTRATION – NON-MEMBERS
URL:https://wickfordart.org/event/fearless-color-relaxed-watercolor-mixing-with-victoria-bishop/2026-04-26/
CATEGORIES:Adult Classes,Art Classes,Onsite Classes
ATTACH;FMTTYPE=image/jpeg:https://wickfordart.org/wp-content/uploads/8964b93b-50de-402f-ad0c-55de027f1950.jpg
ORGANIZER;CN="Victoria Bishop":MAILTO:kikinlily@gmail.com
END:VEVENT
BEGIN:VEVENT
DTSTART;TZID=America/New_York:20260429T100000
DTEND;TZID=America/New_York:20260429T113000
DTSTAMP:20260423T073948
CREATED:20260225T211638Z
LAST-MODIFIED:20260225T211638Z
UID:10001984-1777456800-1777462200@wickfordart.org
SUMMARY:Fiber Arts & Sewing for Homeschoolers with Emily Bennison
DESCRIPTION:Fiber Arts & Sewing for Homeschoolers with Emily Bennison \nWednesdays\, April 1\, 8\, 15\, 29 and May 6\, 13\, 20\, 27  (8 weeks) from 10:00 am – 11:30 am  \nStudents are encouraged to continue working on their sewing projects in process for the first few classes and then… into an exploration of Fiber Arts! \n Explore the diverse techniques of fiber art\, including weaving\, wool felting\, fabric dying\, Knitting\, and embroidery. This class will emphasize process-based discovery\, encouraging curiosity and problem-solving as students navigate new tools and techniques.  Alongside technical development\, the course highlights contemporary textile artists and are encouraged to use personal narratives\, cultural references\, and sensory experience as inspiration for their creations. \n$200 (+$10 materials fee paid directly to instructor on first class) \nCLASS REGISTRATION
URL:https://wickfordart.org/event/fiber-arts-sewing-for-homeschoolers-with-emily-bennison/2026-04-29/
CATEGORIES:Art Classes,Homeschool Classes,Onsite Classes,Youth Classes
ATTACH;FMTTYPE=image/jpeg:https://wickfordart.org/wp-content/uploads/Copy-of-Fashion-EmilyB.jpg
ORGANIZER;CN="Emily Bennison":MAILTO:emilyelizabethbennison@gmail.com
END:VEVENT
END:VCALENDAR