BEGIN:VCALENDAR
VERSION:2.0
PRODID:-//Wickford Art Association - ECPv6.15.18//NONSGML v1.0//EN
CALSCALE:GREGORIAN
METHOD:PUBLISH
X-ORIGINAL-URL:https://wickfordart.org
X-WR-CALDESC:Events for Wickford Art Association
REFRESH-INTERVAL;VALUE=DURATION:PT1H
X-Robots-Tag:noindex
X-PUBLISHED-TTL:PT1H
BEGIN:VTIMEZONE
TZID:America/New_York
BEGIN:DAYLIGHT
TZOFFSETFROM:-0500
TZOFFSETTO:-0400
TZNAME:EDT
DTSTART:20250309T070000
END:DAYLIGHT
BEGIN:STANDARD
TZOFFSETFROM:-0400
TZOFFSETTO:-0500
TZNAME:EST
DTSTART:20251102T060000
END:STANDARD
BEGIN:DAYLIGHT
TZOFFSETFROM:-0500
TZOFFSETTO:-0400
TZNAME:EDT
DTSTART:20260308T070000
END:DAYLIGHT
BEGIN:STANDARD
TZOFFSETFROM:-0400
TZOFFSETTO:-0500
TZNAME:EST
DTSTART:20261101T060000
END:STANDARD
BEGIN:DAYLIGHT
TZOFFSETFROM:-0500
TZOFFSETTO:-0400
TZNAME:EDT
DTSTART:20270314T070000
END:DAYLIGHT
BEGIN:STANDARD
TZOFFSETFROM:-0400
TZOFFSETTO:-0500
TZNAME:EST
DTSTART:20271107T060000
END:STANDARD
END:VTIMEZONE
BEGIN:VEVENT
DTSTART;TZID=America/New_York:20260304T100000
DTEND;TZID=America/New_York:20260304T113000
DTSTAMP:20260425T075824
CREATED:20260116T154345Z
LAST-MODIFIED:20260116T160934Z
UID:10001952-1772618400-1772623800@wickfordart.org
SUMMARY:Fashion Design for Homeschoolers with Emily Bennison
DESCRIPTION:Fashion Design for Homeschoolers with Emily Bennison \nWednesdays\, Jan 21\, 28\, Feb 11\, 25\, Mar 4  (5 weeks) from 10:00 am – 11:30 am  \nEver wonder what it takes to be a fashion designer? Explore different trends and styles of clothing throughout the ages to inspire your own original designs. Delve into all things fashion including sewing\, illustration\, and material exploration. Students will learn how to draw clothes\, dye fabric\, weave\, and sew on a machine. \n● Hand sew\n● Sew on a machine (learn multiple stitches ie: zig zag\, and straight)\n● Practice fine motor skills (pinning\, cutting small curves for details)\n● Cut from a Pattern\n● Embellish\n● Pin Fabric\n● Draw a figure\n● Collage\n● Drape\n● Dying\n● Wool felting\n● Finger knitting\n● Weaving\n● Shading with colored pencils \n$160 (+$10 materials fee paid directly to instructor on first class) \nCLASS REGISTRATION
URL:https://wickfordart.org/event/fashion-design-for-homeschoolers-with-emily-bennison/2026-03-04/
CATEGORIES:Art Classes,Homeschool Classes,Onsite Classes,Youth Classes
ATTACH;FMTTYPE=image/jpeg:https://wickfordart.org/wp-content/uploads/Fashion-EmilyB.jpg
ORGANIZER;CN="Emily Bennison":MAILTO:emilyelizabethbennison@gmail.com
END:VEVENT
BEGIN:VEVENT
DTSTART;TZID=America/New_York:20260304T150000
DTEND;TZID=America/New_York:20260304T180000
DTSTAMP:20260425T075824
CREATED:20251231T170211Z
LAST-MODIFIED:20260210T141853Z
UID:10001913-1772636400-1772647200@wickfordart.org
SUMMARY:Dynamics & Movement in Oils with Sarah Hirsch
DESCRIPTION:Dynamics & Movement in Oils with Sarah Hirsch \nWednesdays\, Feb 11\, 18\, 25\, Mar 4\, 18\, 25  from 3:00pm-6:00pm\n(6 classes) \n(Welcoming Adults and Teens / Intermediate and Advanced)\n\nHow do you coax a painting to come alive? What gives it that special something that stops you in your tracks? Working with different frameworks of Dynamics and Movement\, we will energize your pieces and give them depth\, interest\, and story. In this intermediate-advanced oil painting class\, students will each bring their own inspiration and then through guided exercises and instruction we will explore new elements of theory and composition\, including: line\, focus\, contrast\, variation\, flow\, motifs and more. Classes blend group lessons\, individual\ninstruction\, and friendly community critiques.\n\nMaterials List  (students bring their supplies)\n$220 Members | $250 Non-members \nCLASS REGISTRATION – CURRENT MEMBERS \nCLASS REGISTRATION – NON-MEMBERS
URL:https://wickfordart.org/event/dynamics-movement-in-oils-with-sarah-hirsch/2026-03-04/
CATEGORIES:Adult Classes,Art Classes,Onsite Classes,Youth Classes
ATTACH;FMTTYPE=image/jpeg:https://wickfordart.org/wp-content/uploads/Sarah-Hirsch-dynamic-movement-class-feb-2026.jpg
END:VEVENT
BEGIN:VEVENT
DTSTART;TZID=America/New_York:20260317T100000
DTEND;TZID=America/New_York:20260317T130000
DTSTAMP:20260425T075824
CREATED:20260202T210128Z
LAST-MODIFIED:20260202T210531Z
UID:10001957-1773741600-1773752400@wickfordart.org
SUMMARY:Light Fantastic with Betsey MacDonald
DESCRIPTION:Light Fantastic with Betsey MacDonald \nTuesdays\, March 17\, 24\, 31 & April 7 from 10:00AM–1:00PM (4 classes) \nIntermediate to Advanced Levels \n‘To me\, every square inch of a painting space is about light and dark. Understanding light is the foundation of our art. Without it there is no contrast\, no color\, no vision. In this class we will continue to explore light and how it emerges through color theory. Join us to investigate how the variety of watercolor techniques\, particularly the use of transparent layers will allow us to create our own light inspired visions. This class is a continuation of “See The Light” but newcomers are more than welcome!’ \nMATERIALS LIST\nMaterials student will need to provide: :  watercolor set(an inexpensive tray is fine but a set of tubes with palette is great\, too)\, variety of brushes\, masking fluid\,  watercolor block or pad(at least 140 lb\, 8x 10\, 12 x 16\, 16 x 20 or a few sheets with a gator foam board for stapling or some other support  or 300 lb paper which doesn’t need mounting\,  hot or cold press or even rough can work\, jar or two for water\, spray bottle\, sponge or two\, #2 pencil or mechanical pencil\, paper towels.  Several printed 8 x 10  photos taken by the student of light on the subjects of choice. Betsey will be bringing grapes and oranges etc for the first class. \n$170 Members | $200 Non-members \nCLASS REGISTRATION – CURRENT MEMBERS \nCLASS REGISTRATION – NON-MEMBERS
URL:https://wickfordart.org/event/light-fantastic-with-betsey-macdonald/2026-03-17/
CATEGORIES:Adult Classes,Art Classes,Onsite Classes
ATTACH;FMTTYPE=image/jpeg:https://wickfordart.org/wp-content/uploads/betsey-light.jpeg
END:VEVENT
BEGIN:VEVENT
DTSTART;TZID=America/New_York:20260318T150000
DTEND;TZID=America/New_York:20260318T180000
DTSTAMP:20260425T075824
CREATED:20251231T170211Z
LAST-MODIFIED:20260210T141853Z
UID:10001914-1773846000-1773856800@wickfordart.org
SUMMARY:Dynamics & Movement in Oils with Sarah Hirsch
DESCRIPTION:Dynamics & Movement in Oils with Sarah Hirsch \nWednesdays\, Feb 11\, 18\, 25\, Mar 4\, 18\, 25  from 3:00pm-6:00pm\n(6 classes) \n(Welcoming Adults and Teens / Intermediate and Advanced)\n\nHow do you coax a painting to come alive? What gives it that special something that stops you in your tracks? Working with different frameworks of Dynamics and Movement\, we will energize your pieces and give them depth\, interest\, and story. In this intermediate-advanced oil painting class\, students will each bring their own inspiration and then through guided exercises and instruction we will explore new elements of theory and composition\, including: line\, focus\, contrast\, variation\, flow\, motifs and more. Classes blend group lessons\, individual\ninstruction\, and friendly community critiques.\n\nMaterials List  (students bring their supplies)\n$220 Members | $250 Non-members \nCLASS REGISTRATION – CURRENT MEMBERS \nCLASS REGISTRATION – NON-MEMBERS
URL:https://wickfordart.org/event/dynamics-movement-in-oils-with-sarah-hirsch/2026-03-18/
CATEGORIES:Adult Classes,Art Classes,Onsite Classes,Youth Classes
ATTACH;FMTTYPE=image/jpeg:https://wickfordart.org/wp-content/uploads/Sarah-Hirsch-dynamic-movement-class-feb-2026.jpg
END:VEVENT
BEGIN:VEVENT
DTSTART;TZID=America/New_York:20260321T100000
DTEND;TZID=America/New_York:20260321T140000
DTSTAMP:20260425T075824
CREATED:20260105T175359Z
LAST-MODIFIED:20260105T175359Z
UID:10001916-1774087200-1774101600@wickfordart.org
SUMMARY:Textile Shibori Designs with Ann Bianchi
DESCRIPTION:Textile Shibori Designs with Ann Bianchi \nSaturday\, March 21 10:00AM–2:00PM (1 class\, 4 hours with a lunch break) \nFabrics from natural cellulose fibers (cottons\, linens and silks) will be our “canvases” as we experiment with historical and cultural resist methods. Working in the styles of Japanese Arashi Shibori and Itajime Shibori\, we’ll add colorants from liquid acrylics to white cloth for fantastic results.  Beautifully prepared cloth will be matted in class and prepared for framing as a piece of art.  In this workshop Ann will provide multiple demonstrations and guidance as students work together on each method while also enjoying some historical cultural information shared during demonstrations. Use different fabric sizes in the workshop and note the various effects.  Be prepared to be amazed with your results\, have fun and witness colors merging onto the textiles as they take on a life of their own!   No prior experience needed. All skills are welcome.  A $10 Supply fee (including all materials) including fabrics and  finished frame mats. \n$80 Members | $110 Non-members +$10 Supply Fee (paid to Ann in class includes all supplies for this one-day class)  \nCLASS REGISTRATION – CURRENT MEMBERS \nCLASS REGISTRATION – NON-MEMBERS
URL:https://wickfordart.org/event/textile-shibori-designs-with-ann-bianchi/
CATEGORIES:Adult Classes,Art Classes,Onsite Classes
ATTACH;FMTTYPE=image/jpeg:https://wickfordart.org/wp-content/uploads/Textile-Shibori-Photo-2-1.jpg
END:VEVENT
BEGIN:VEVENT
DTSTART;TZID=America/New_York:20260324T100000
DTEND;TZID=America/New_York:20260324T130000
DTSTAMP:20260425T075824
CREATED:20260202T210128Z
LAST-MODIFIED:20260202T210531Z
UID:10001958-1774346400-1774357200@wickfordart.org
SUMMARY:Light Fantastic with Betsey MacDonald
DESCRIPTION:Light Fantastic with Betsey MacDonald \nTuesdays\, March 17\, 24\, 31 & April 7 from 10:00AM–1:00PM (4 classes) \nIntermediate to Advanced Levels \n‘To me\, every square inch of a painting space is about light and dark. Understanding light is the foundation of our art. Without it there is no contrast\, no color\, no vision. In this class we will continue to explore light and how it emerges through color theory. Join us to investigate how the variety of watercolor techniques\, particularly the use of transparent layers will allow us to create our own light inspired visions. This class is a continuation of “See The Light” but newcomers are more than welcome!’ \nMATERIALS LIST\nMaterials student will need to provide: :  watercolor set(an inexpensive tray is fine but a set of tubes with palette is great\, too)\, variety of brushes\, masking fluid\,  watercolor block or pad(at least 140 lb\, 8x 10\, 12 x 16\, 16 x 20 or a few sheets with a gator foam board for stapling or some other support  or 300 lb paper which doesn’t need mounting\,  hot or cold press or even rough can work\, jar or two for water\, spray bottle\, sponge or two\, #2 pencil or mechanical pencil\, paper towels.  Several printed 8 x 10  photos taken by the student of light on the subjects of choice. Betsey will be bringing grapes and oranges etc for the first class. \n$170 Members | $200 Non-members \nCLASS REGISTRATION – CURRENT MEMBERS \nCLASS REGISTRATION – NON-MEMBERS
URL:https://wickfordart.org/event/light-fantastic-with-betsey-macdonald/2026-03-24/
CATEGORIES:Adult Classes,Art Classes,Onsite Classes
ATTACH;FMTTYPE=image/jpeg:https://wickfordart.org/wp-content/uploads/betsey-light.jpeg
END:VEVENT
BEGIN:VEVENT
DTSTART;TZID=America/New_York:20260325T150000
DTEND;TZID=America/New_York:20260325T180000
DTSTAMP:20260425T075824
CREATED:20251231T170211Z
LAST-MODIFIED:20260210T141853Z
UID:10001915-1774450800-1774461600@wickfordart.org
SUMMARY:Dynamics & Movement in Oils with Sarah Hirsch
DESCRIPTION:Dynamics & Movement in Oils with Sarah Hirsch \nWednesdays\, Feb 11\, 18\, 25\, Mar 4\, 18\, 25  from 3:00pm-6:00pm\n(6 classes) \n(Welcoming Adults and Teens / Intermediate and Advanced)\n\nHow do you coax a painting to come alive? What gives it that special something that stops you in your tracks? Working with different frameworks of Dynamics and Movement\, we will energize your pieces and give them depth\, interest\, and story. In this intermediate-advanced oil painting class\, students will each bring their own inspiration and then through guided exercises and instruction we will explore new elements of theory and composition\, including: line\, focus\, contrast\, variation\, flow\, motifs and more. Classes blend group lessons\, individual\ninstruction\, and friendly community critiques.\n\nMaterials List  (students bring their supplies)\n$220 Members | $250 Non-members \nCLASS REGISTRATION – CURRENT MEMBERS \nCLASS REGISTRATION – NON-MEMBERS
URL:https://wickfordart.org/event/dynamics-movement-in-oils-with-sarah-hirsch/2026-03-25/
CATEGORIES:Adult Classes,Art Classes,Onsite Classes,Youth Classes
ATTACH;FMTTYPE=image/jpeg:https://wickfordart.org/wp-content/uploads/Sarah-Hirsch-dynamic-movement-class-feb-2026.jpg
END:VEVENT
BEGIN:VEVENT
DTSTART;TZID=America/New_York:20260331T100000
DTEND;TZID=America/New_York:20260331T130000
DTSTAMP:20260425T075824
CREATED:20260202T210128Z
LAST-MODIFIED:20260202T210531Z
UID:10001959-1774951200-1774962000@wickfordart.org
SUMMARY:Light Fantastic with Betsey MacDonald
DESCRIPTION:Light Fantastic with Betsey MacDonald \nTuesdays\, March 17\, 24\, 31 & April 7 from 10:00AM–1:00PM (4 classes) \nIntermediate to Advanced Levels \n‘To me\, every square inch of a painting space is about light and dark. Understanding light is the foundation of our art. Without it there is no contrast\, no color\, no vision. In this class we will continue to explore light and how it emerges through color theory. Join us to investigate how the variety of watercolor techniques\, particularly the use of transparent layers will allow us to create our own light inspired visions. This class is a continuation of “See The Light” but newcomers are more than welcome!’ \nMATERIALS LIST\nMaterials student will need to provide: :  watercolor set(an inexpensive tray is fine but a set of tubes with palette is great\, too)\, variety of brushes\, masking fluid\,  watercolor block or pad(at least 140 lb\, 8x 10\, 12 x 16\, 16 x 20 or a few sheets with a gator foam board for stapling or some other support  or 300 lb paper which doesn’t need mounting\,  hot or cold press or even rough can work\, jar or two for water\, spray bottle\, sponge or two\, #2 pencil or mechanical pencil\, paper towels.  Several printed 8 x 10  photos taken by the student of light on the subjects of choice. Betsey will be bringing grapes and oranges etc for the first class. \n$170 Members | $200 Non-members \nCLASS REGISTRATION – CURRENT MEMBERS \nCLASS REGISTRATION – NON-MEMBERS
URL:https://wickfordart.org/event/light-fantastic-with-betsey-macdonald/2026-03-31/
CATEGORIES:Adult Classes,Art Classes,Onsite Classes
ATTACH;FMTTYPE=image/jpeg:https://wickfordart.org/wp-content/uploads/betsey-light.jpeg
END:VEVENT
END:VCALENDAR