BEGIN:VCALENDAR
VERSION:2.0
PRODID:-//Wickford Art Association - ECPv6.15.18//NONSGML v1.0//EN
CALSCALE:GREGORIAN
METHOD:PUBLISH
X-ORIGINAL-URL:https://wickfordart.org
X-WR-CALDESC:Events for Wickford Art Association
REFRESH-INTERVAL;VALUE=DURATION:PT1H
X-Robots-Tag:noindex
X-PUBLISHED-TTL:PT1H
BEGIN:VTIMEZONE
TZID:America/New_York
BEGIN:DAYLIGHT
TZOFFSETFROM:-0500
TZOFFSETTO:-0400
TZNAME:EDT
DTSTART:20240310T070000
END:DAYLIGHT
BEGIN:STANDARD
TZOFFSETFROM:-0400
TZOFFSETTO:-0500
TZNAME:EST
DTSTART:20241103T060000
END:STANDARD
BEGIN:DAYLIGHT
TZOFFSETFROM:-0500
TZOFFSETTO:-0400
TZNAME:EDT
DTSTART:20250309T070000
END:DAYLIGHT
BEGIN:STANDARD
TZOFFSETFROM:-0400
TZOFFSETTO:-0500
TZNAME:EST
DTSTART:20251102T060000
END:STANDARD
BEGIN:DAYLIGHT
TZOFFSETFROM:-0500
TZOFFSETTO:-0400
TZNAME:EDT
DTSTART:20260308T070000
END:DAYLIGHT
BEGIN:STANDARD
TZOFFSETFROM:-0400
TZOFFSETTO:-0500
TZNAME:EST
DTSTART:20261101T060000
END:STANDARD
END:VTIMEZONE
BEGIN:VEVENT
DTSTART;TZID=America/New_York:20250906T110000
DTEND;TZID=America/New_York:20250906T133000
DTSTAMP:20260424T174007
CREATED:20250318T235314Z
LAST-MODIFIED:20250319T001642Z
UID:10001423-1757156400-1757165400@wickfordart.org
SUMMARY:Advanced Marine Botanical Workshop: The Art of Seaweed I with Mary Jameson
DESCRIPTION:Advanced Marine Botanical Workshop:  The Art of Seaweed I with Mary Jameson  \nSaturday September 6th 11:00 AM –  1:30 PM (1 Class) \nDesigned exclusively for experienced artists\, this workshop delves into the intricate art of Marine Botanicals\, blending scientific curiosity with artistic expression. Inspired by the Victorian tradition of seaweed pressing\, this advanced session refines your ability to create complex\, layered compositions using native marine algae. \nLed by artist Mary Jameson\, this workshop will explore: \n\nAdvanced composition techniques\, including layering\, color contrast\, and balance.\nEnhanced preservation methods to maintain the delicate textures and hues of seaweed.\nSpecialized pressing techniques to create museum-quality botanical works.\n\nEach participant will create two refined seaweed pressings\, suitable for framing and exhibition. You’ll also receive an expanded reusable kit\, allowing you to continue exploring this art form beyond the classroom. \nThis session is tailored for artists with experience in composition\, color theory\, and design\, looking to push their creative boundaries and integrate marine botanicals into their practice. \nDiscover the elegance of seaweed as an artistic medium and elevate your craft with this exclusive advanced workshop! \n$160 Members | $190 Non-members \nCLASS REGISTRATION – CURRENT MEMBERS \nCLASS REGISTRATION – NON-MEMBERS \nLearn more about Mary Jameson
URL:https://wickfordart.org/event/advanced-marine-botanical-workshop-the-art-of-seaweed-i-with-mary-jameson/
CATEGORIES:Advanced Class Series
ATTACH;FMTTYPE=image/webp:https://wickfordart.org/wp-content/uploads/SakonnetWinterCollage_864x1120.webp
END:VEVENT
BEGIN:VEVENT
DTSTART;TZID=America/New_York:20250808T090000
DTEND;TZID=America/New_York:20250808T160000
DTSTAMP:20260424T174007
CREATED:20250420T231858Z
LAST-MODIFIED:20250420T232043Z
UID:10001532-1754643600-1754668800@wickfordart.org
SUMMARY:3-Day Plein Air Painting Workshop with Sam Allerton Green
DESCRIPTION:3-Day Plein Air Painting Workshop with Sam Allerton Green \nAugust 6th\, 7th and 8th –  9:00 AM – 4:00 PM \nJoin Sam Allerton Green in the charming coastal village of Wickford\, RI\, for a 3-day plein air painting workshop designed to support and inspire your creative practice. Rather than emphasizing strict technique\, this workshop will explore the methods and mindset that lead to a rewarding and sustainable plein air experience—one that can meaningfully inform your work back in the studio. \nThrough thoughtful demonstrations\, daily painting sessions\, and group critiques\, you’ll learn how to simplify your setup\, respond intuitively to your environment\, and develop habits that help you stay present\, productive\, and creatively engaged outdoors. We’ll focus on deobjectifying the landscape—shifting away from labeling “things” and instead seeing abstract shapes and relationships. This approach encourages a deeper connection to the moment and a more honest response to what you’re actually seeing\, not just what you think you’re seeing. \nWhether you’re new to plein air or looking to bring more flow into your process\, this workshop is about finding your rhythm in the field and building lasting confidence—both outside and back in the studio. \n$350 Members | $380 Non Members \nCLASS REGISTRATION – CURRENT MEMBERS \nCLASS REGISTRATION – NON-MEMBERS \nLearn more about Sam Allerton Green
URL:https://wickfordart.org/event/3-day-plein-air-painting-workshop-with-sam-allerton-green/2025-08-08/
CATEGORIES:Advanced Class Series
ATTACH;FMTTYPE=image/jpeg:https://wickfordart.org/wp-content/uploads/185470751_4029556397123071_6641438289997508096_n.jpg
END:VEVENT
BEGIN:VEVENT
DTSTART;TZID=America/New_York:20250605T180000
DTEND;TZID=America/New_York:20250605T190000
DTSTAMP:20260424T174007
CREATED:20250319T010336Z
LAST-MODIFIED:20250319T010336Z
UID:10001426-1749146400-1749150000@wickfordart.org
SUMMARY:Advanced Marine Botanical Presentation: The Art of Seaweed with Mary Jameson
DESCRIPTION:Advanced Marine Botanical Presentation:  The Art of Seaweed with Mary Jameson  \nThursday June 5th  6:00 PM – 7:00 PM \nJoin artist Mary Jameson for an engaging introductory presentation on the art and science of pressed marine botanicals. This session will offer a glimpse into the fascinating process of creating intricate seaweed pressings\, highlighting advanced techniques in composition\, preservation\, and artistic expression. \nThis presentation serves as a preview for the two upcoming Advanced Marine Botanical Workshops taking place on September 6. Attendees will gain insight into the workshop structure\, materials\, and methods\, helping them determine if these advanced sessions align with their artistic practice. \nWhether you’re considering participating in the workshops or simply interested in learning more about this unique art form\, this one-hour presentation is a perfect opportunity to explore the world of marine botanical artistry \nLocation: 36 Beach Street\, North Kingstown \nFree and open to experienced artists \nDon’t miss this chance to be inspired and prepare for the upcoming workshops! \nSpace Limited!  Register for FREE \nLearn more about Mary Jameson
URL:https://wickfordart.org/event/advanced-marine-botanical-presentation-the-art-of-seaweed-with-mary-jameson/
CATEGORIES:Advanced Class Series
ATTACH;FMTTYPE=image/jpeg:https://wickfordart.org/wp-content/uploads/cover-2025-03-09T092534.362.jpg
END:VEVENT
BEGIN:VEVENT
DTSTART;TZID=America/New_York:20250602T130000
DTEND;TZID=America/New_York:20250602T163000
DTSTAMP:20260424T174007
CREATED:20250328T190910Z
LAST-MODIFIED:20250410T004520Z
UID:10001455-1748869200-1748881800@wickfordart.org
SUMMARY:Abstract Collage and Printmaking: Next Steps (For Returning Students Only) with Sarah Short
DESCRIPTION:Abstract Collage and Printmaking: Next Steps (For Returning Students Only) with Sarah Short \nMonday\, June 2 from 1:00 PM – 4:30 PM (1 Follow Up Class) \nThis open studio session is designed for students who have taken the Abstract Collage and Printmaking with Vintage Papers a Two Day Workshop and would like additional time to refine and complete their projects. In this relaxed and supportive environment\, participants will have access to letterpress materials\, vintage papers\, and gelliplates to continue experimenting with composition\, layering\, and printmaking techniques. \nStudents can use this session to finalize their collages\, explore new creative directions\, or receive individualized feedback and guidance. Whether adding finishing touches or starting a new piece inspired by previous work\, this open studio provides the time and space to fully develop your artistic vision. \n$75 Members | $90 Non-members \nCLASS REGISTRATION – CURRENT MEMBERS \nCLASS REGISTRATION – NON-MEMBERS \n  \nLearn more about Sarah Short
URL:https://wickfordart.org/event/abstract-collage-and-printmaking-next-steps-for-returning-students-only-with-sarah-short/
CATEGORIES:Advanced Class Series
ATTACH;FMTTYPE=image/jpeg:https://wickfordart.org/wp-content/uploads/SarahZShort_Jamesburg_20215_12x9__highres.jpg
END:VEVENT
BEGIN:VEVENT
DTSTART;TZID=America/New_York:20250601T100000
DTEND;TZID=America/New_York:20250601T160000
DTSTAMP:20260424T174007
CREATED:20250312T135944Z
LAST-MODIFIED:20250425T144829Z
UID:10000741-1748772000-1748793600@wickfordart.org
SUMMARY:Abstract Collage and Printmaking with Vintage Papers a Two Day Workshop with Sarah Short
DESCRIPTION:Abstract Collage and Printmaking with Vintage Papers a Two Day Workshop with Sarah Short  \nSaturday May 31\, Sunday June 1 from 10:00 AM – 4:00 PM (2 Classes) \nIn this workshop\, students will explore the art of letterpress printmaking and abstract collage composition. Students will learn various techniques for creating layered letterpress prints using wooden type and vintage papers and ways to replicate the letterpress look on a gelliplate. \nStudents will be inspired by the close examination of abstract as students learn composition\, color balance\, and layering techniques for collage using the prints they’ve created. By the end of this workshop\, you will have a collection of collages that combine vintage materials with unique letterpress prints. These collages will showcase your skills in abstractc composition and innovative printmaking techniques. \n$240 Members | $270 Non-members \nCLASS REGISTRATION – CURRENT MEMBERS \nCLASS REGISTRATION – NON-MEMBERS \n  \nSupply List \nLearn more about Sarah Short
URL:https://wickfordart.org/event/abstract-collage-and-printmaking-with-vintage-papers-with-sarah-short/2025-06-01/
CATEGORIES:Advanced Class Series
ATTACH;FMTTYPE=image/jpeg:https://wickfordart.org/wp-content/uploads/SarahZShort_TheYoungOne_10x10x1.5_2025_highres.jpg
END:VEVENT
END:VCALENDAR